BEGIN:VCALENDAR
VERSION:2.0
PRODID:-//halbNeun-Theater - ECPv6.15.11//NONSGML v1.0//EN
CALSCALE:GREGORIAN
METHOD:PUBLISH
X-ORIGINAL-URL:https://halbneuntheater.de
X-WR-CALDESC:Veranstaltungen für halbNeun-Theater
REFRESH-INTERVAL;VALUE=DURATION:PT1H
X-Robots-Tag:noindex
X-PUBLISHED-TTL:PT1H
BEGIN:VTIMEZONE
TZID:UTC
BEGIN:STANDARD
TZOFFSETFROM:+0000
TZOFFSETTO:+0000
TZNAME:UTC
DTSTART:20250101T000000
END:STANDARD
END:VTIMEZONE
BEGIN:VEVENT
DTSTART;TZID=UTC:20261031T203000
DTEND;TZID=UTC:20261031T203000
DTSTAMP:20260421T102513
CREATED:20260313T113317Z
LAST-MODIFIED:20260313T113644Z
UID:7220-1793478600-1793478600@halbneuntheater.de
SUMMARY:Gina & Glinda: "Gina & Glinda Tour '26"
DESCRIPTION:Endlich ist es soweit:\nDeutschlands erfolgreichstes Travestie-Duo mit echtem und einzigartigem Live-Gesang kommen zu Euch ins halbNeun Theater nach Darmstadt. \nLasst Euch diese fulminante Live Show von Gina Colada und Glinda Glanz nicht entgehen. Schillernde Kleider\, unzählige Anekdoten\, dunkle Geheimnisse sowie witzige Kapitel ihres Lebens warten auf Euch! \nDas sind 100% Travestie\, 100% Comedy und 100% live Gesang\, kurzum: ein Garant für einen Lachmuskelkater! \nGina & Glinda verstehen es\, aus dem Nähkästchen zu plaudern und dabei bestens\, wenn auch nicht immer gänzlich jugendfrei\, aber stets mit Niveau und knapp an der Gürtellinie vorbei\, durch den Abend zu führen. Kommt mit auf diese kunterbunte\, musikalische Reise\, lasst euch von ihren Stimmen verzaubern und erlebt einen unvergesslichen Abend.
URL:https://halbneuntheater.de/veranstaltung/gina-glinda-gina-glinda-tour-26/
CATEGORIES:2. Halbjahr 2026
ATTACH;FMTTYPE=image/jpeg:https://halbneuntheater.de/halbNeunV2/wp-content/uploads/2026/03/Gina_Glinda_1.jpg
END:VEVENT
END:VCALENDAR