BEGIN:VCALENDAR
VERSION:2.0
PRODID:-//halbNeun-Theater - ECPv6.15.11//NONSGML v1.0//EN
CALSCALE:GREGORIAN
METHOD:PUBLISH
X-WR-CALNAME:halbNeun-Theater
X-ORIGINAL-URL:https://halbneuntheater.de
X-WR-CALDESC:Veranstaltungen für halbNeun-Theater
REFRESH-INTERVAL;VALUE=DURATION:PT1H
X-Robots-Tag:noindex
X-PUBLISHED-TTL:PT1H
BEGIN:VTIMEZONE
TZID:UTC
BEGIN:STANDARD
TZOFFSETFROM:+0000
TZOFFSETTO:+0000
TZNAME:UTC
DTSTART:20220101T000000
END:STANDARD
END:VTIMEZONE
BEGIN:VEVENT
DTSTART;TZID=UTC:20230505T203000
DTEND;TZID=UTC:20230505T203000
DTSTAMP:20260419T155536
CREATED:20220831T103453Z
LAST-MODIFIED:20230503T142629Z
UID:5098-1683318600-1683318600@halbneuntheater.de
SUMMARY:Anne Folger: "Fußnoten - sind keine Reflexzonen" - ABGESAGT
DESCRIPTION:Leider wurde diese Vorstellung\, wegen Erkrankung der Künstlerin\, abgesagt.\nBei Rückfragen sind wir von Mo.-Fr. von 10:00 Uhr bis 13:00 Uhr unter Tel. 06151 – 23330 zu erreichen.\nTicketrückgabe:\n\nSie haben Ihre Tickets direkt bei uns im halbNeun Theater gekauft?\n\nDann bekommen Sie Ihre Tickets direkt bei uns vor Ort zurückerstattet.\n\n\nSie haben Ihre Tickets über das Internet (unsere Homepage / zTix) bestellt?\n\nDann erhalten Sie Ihr Geld zurück. Wir führen die Prüfung im eigenen Inhouse-zTix-System durch und erstatten den Eintrittspreis. Wir benachrichtigen Sie per E-Mail. Wenn Sie keine Nachricht erhalten haben\, wenden Sie sich bitte direkt an uns. http://halbneuntheater.de/kontakt/\n\n\nSie haben Ihre Tickets bei einer (an das zTix-System angeschlossenen) VVK-Stellen erworben?\n\nDann bekommen Sie dort den vollen Kartenpreis erstattet. Die VVK-Stelle prüft die vorgelegte Ticketnummer im System und sperrt diese gleichzeitig gegen doppelte Auszahlung.\n\n\n\n———————————————— \nManche Anmerkungen findet man nicht im Text. Den kleingedruckten Stachel hinter dem Kompliment\, die euphorische Schlagzeile mit ironischem Beigeschmack. Annes Blickwinkel sind eigenwillig und kommen leichtfüßig\, aber tiefgründig daher. Mit Wortwitz und Ironie singt sie im Rosamunde-Pilcher-Stil gegen Großkonzerne\, über das Glück zu fliegen\, wenn die Beine fest auf dem Boden stehen\, parodiert anschaulich Beethovens Götterfunken unter Lockdown- und Weingeist-Bedingungen\, lässt Doremi\, die Influencerin ihres Debüt-Programmes „Selbstläufer“\, im neuen Tutorial erklären\, welche Intervalle zum Fasten geeignet sind und warum der Tritonus keine Nuss ist.  \nDabei beeindruckt sie mit ihrem musikalischen Können. Wenn „Paint it Black“ der Rolling Stones nach Schostakowitsch und Brahms klingt oder beim „Fliegenden Robert“ die Läufe über die Tastatur jagen\, holt sie ihr Konzertexamen aus der Tasche und sorgt  beim Kleinkunstpublikum für Verblüffung.  \nDenn: Frau Folger übte viel Klavier! Im Beethovenhaus Schloß Belvedere Weimar\, unterer Korridor\, zweite Tür links; in verrauchten DDR-Clubdiskotheken; in Goethes Wohnhaus unter dem Italien-Portrait; oder im ehemaligen Volkspolizeikrankenhaus mit Folterkeller. Hier erwartet Sie ein Abend mit Geschichten\, wunderschön arrangierten Liedern und einer Menge Humor.  \nDie Presse schreibt dann: „Unverwechselbar und mitreißend“\, „Mit Zeitgeist und entlarvendem Appeal“\, „Publikum lachte Tränen“. Das würde die Künstlerin so über sich selbst nicht schreiben\, aber sie findet es auch sehr gut.
URL:https://halbneuntheater.de/veranstaltung/anne-folger-selbstlaeufer-2/
CATEGORIES:1. Halbjahr 2023
ATTACH;FMTTYPE=image/jpeg:https://halbneuntheater.de/halbNeunV2/wp-content/uploads/2022/08/Anne_Folger_1.jpg
END:VEVENT
BEGIN:VEVENT
DTSTART;TZID=UTC:20230506T203000
DTEND;TZID=UTC:20230506T203000
DTSTAMP:20260419T155536
CREATED:20221123T070233Z
LAST-MODIFIED:20221123T070233Z
UID:5324-1683405000-1683405000@halbneuntheater.de
SUMMARY:AB/CD: "Bon Scott meets Brian Johnson"
DESCRIPTION:Wer kommt dem Original am nächsten? AB/CD \nMalcom Young folgt Bon Scott in den »Rockhimmel«\, den Rockolymp. Brian Johnson und Cliff Williams verabschieden sich bei AC/DC … Traurig aber wahr! Auch wenn das Original live wahrscheinlich nicht mehr zu sehen sein wird\, bietet AB/CD den Fans weiterhin die Möglichkeit\, ihre Lieblingsmusik\, auf Konzerten\, von einer der weltweit besten AC/DC Tribute-Bands zu genießen! \nAC/DC\, ein Synonym für Härte\, rohe Gitarrenriffs und eingängige Songs von ungeheurer Energie. \nDie sechs Musiker aus dem Großraum Frankfurt-Aschaffenburg sind allesamt mit der Musik von AC/DC aufgewachsen. Als der Entschluss feststand\, eine Band zu gründen\, war die Richtung klar. Auch die Namensgebung AB/CD (AB = Kfz-Kennzeichen von Aschaffenburg) lag nahe. \nAnfangs konzentrierte man sich auf die wilden Jahre. Die Zeit mit dem legendären Sänger BON SCOTT\, welcher die Fans und Kritiker gleichermaßen begeisterte. Das wichtigste Credo für AB/CD war\, genau diesen Sound der Australier zu treffen\, der die Band in den 70ern berühmt machte. \nDann stieß »Dimi Deeds« zu AB/CD und verkörperte Angus Young so perfekt\, dass er für die Fans zum einem Mittelpunkt der Auftritte wurde. Kurz darauf entschloss sich die Band um Andy Kirchner auch weiterhin neue Wege zu gehen und nicht zu kleckern\, sondern zu klotzen. So wurden gleich zwei Sänger verpflichtet. Das Konzept »Bon Scott meets Brian Johnson« war geboren. Die Absicht: Der 1980 verstorbene Bon Scott trifft imaginär bei AB/CD Auftritten auf seinen Nachfolger Brian Johnson. \nDie Fans waren begeistert und AB/CD treibt bis heute mit Klassikern wie T.N.T\, HIGHWAY TO HELL\, HELLS BELLS\, oder THUNDERSTRUCK die Stimmung regelmäßig zum Siedepunkt. \n30 Jahre Rock n Roll und mehr als 900 Gigs stehen auf der ABCD Visitenkarte. Die Zusammenarbeit mit URIAH HEEP\, NAZARETH\, WHITESNAKE\, DONUTS\, RODGAU MONOTONES\, THE DEAD DAISIES und vielen mehr\, muss nicht kommentiert werden! \nEine der laut Fachpresse\, besten Coverbands\, AB/CD\, gibt Live das Motto vor: LET THERE BE ROCK\nEin Muss für jeden Fan erstklassiger Rockmusik. Es werden die größten Hits und auch »Song-Exoten« der australischen Kultrocker AC/DC live auf die Bühne gebracht. AB/CD feiert in 2020 bereits das 30-jährige Bandbestehen. \nAB/CD Lineup:\nPaul McGilley – Lead Gesang (GB / Bon Scott-Part)\nStefan Schweser – Lead Gesang (Brian Jonson-Part)\nAndy Kirchner- Guitar & Backing Voc /(Malcolm Young-Part)\nDimi Deeds – Guitar (GR / Angus Young- Part)\nBernhard Heyder – Bass & Backing Voc (Cliff Williams-Part)\nWahrmut Sobainsky – Drums (Phil Rudd- Part)
URL:https://halbneuntheater.de/veranstaltung/ab-cd-bon-scott-meets-brian-johnson-5/
CATEGORIES:1. Halbjahr 2023
ATTACH;FMTTYPE=image/jpeg:https://halbneuntheater.de/halbNeunV2/wp-content/uploads/2022/11/AB_CD.jpg
END:VEVENT
BEGIN:VEVENT
DTSTART;TZID=UTC:20230507T193000
DTEND;TZID=UTC:20230507T193000
DTSTAMP:20260419T155536
CREATED:20221123T070824Z
LAST-MODIFIED:20221123T070824Z
UID:5327-1683487800-1683487800@halbneuntheater.de
SUMMARY:Heinz Gröning: "Der perfekte Mann - eine laughstory"
DESCRIPTION:Komplett in den Wahnsinn treibt er seine Frau durch seine bloße Anwesenheit – Heinz Gröning alias der unglaubliche Heinzzzzzzz. Denn er weiß: „Ein Mann\, der sich selbst überwunden hat ist stark. Ein Mann der es mit seiner Frau aufnimmt –  der lügt.\n„DER PERFEKTE MANN“ ist Beziehung für Fortgeschrittene. Ein romantischer Abend über Rosen\, Rotwein und Rrrrrrrrr. \nDer Komiker mit dem abgeschlossenen Medizin Studium kehrt zurück zu den Wurzeln unserer Existenz. Was macht gemeinsames Lachen mit einem Paar ? Lustig und beherzt erläutert er urkomische Fakten zur Wirkung des Humors. In diesem Programm  untersucht er gründlich\, was die großen Dichter\, Denker und Philosophen zu diesem Thema gedichtet\, gedacht und philosophiert haben. Er setzt das Ergebnis in einen größeren gesellschaftlichen Zusammenhang und kommt so voller Niveau und sehr intelligent unseren kleinen\, alltäglichen Verrücktheiten auf die Schliche. Neue unerwartete Lösungswege wollen gegangen werden\, die vielleicht der Auftakt zu einem persönlichen Happy End sein können. \nMiteinander Lachen\, vor allem über sich selbst\, ist in jeder Beziehung der Schlüssel zur Lösung der meisten Probleme.  \nDenn eine gemeinsame Nacht dauert\, wenn es hoch kommt\, oft nur ne halbe Stunde. Und dann ist vom Rest des Lebens noch verdammt viel Zeit übrig…
URL:https://halbneuntheater.de/veranstaltung/heinz-groening-der-perfekte-mann-eine-laughstory/
CATEGORIES:1. Halbjahr 2023
ATTACH;FMTTYPE=image/jpeg:https://halbneuntheater.de/halbNeunV2/wp-content/uploads/2022/11/Heinz_Groening.jpg
END:VEVENT
BEGIN:VEVENT
DTSTART;TZID=UTC:20230512T203000
DTEND;TZID=UTC:20230512T203000
DTSTAMP:20260419T155536
CREATED:20221123T071248Z
LAST-MODIFIED:20221123T071248Z
UID:5330-1683923400-1683923400@halbneuntheater.de
SUMMARY:Walter Renneisen: "Hessisch für Fortgeschrittene"
DESCRIPTION:„Hessisch is gar net so schwer. Wenn die Annern aach net verstehe\, war mir sache\, sie wisse\, was wir meine!“\nNach seinem großen Erfolg mit „Deutschland\, Deine Hessen“ hat Walter Renneisen mit einer Sammlung von Anekdoten\, Gedichten\, Kurzgeschichten und Kürzestgeschichten aus dem Alltag der Hessen nachgelegt. Es geht um Missverständnisse zwischen (hessischen) Männern und Frauen\, um Kinder\, Ehe\, Schwiegermütter\, ums liebe Geld\, eigentlich um alles was den Hessen ausmacht und auch – diesmal explizit – um die Liebe! Die hessische Liebe!! Renneisen tut es mit Geschmack und einer wohltuenden Distanz.
URL:https://halbneuntheater.de/veranstaltung/walter-renneisen-hessisch-fuer-fortgeschrittene/
CATEGORIES:1. Halbjahr 2023
ATTACH;FMTTYPE=image/jpeg:https://halbneuntheater.de/halbNeunV2/wp-content/uploads/2022/11/Walter_Renneisen.jpg
END:VEVENT
BEGIN:VEVENT
DTSTART;TZID=UTC:20230513T203000
DTEND;TZID=UTC:20230513T203000
DTSTAMP:20260419T155536
CREATED:20221123T071725Z
LAST-MODIFIED:20221123T071725Z
UID:5333-1684009800-1684009800@halbneuntheater.de
SUMMARY:Stephan Bauer: "Ehepaare kommen in den Himmel - in der Hölle waren sie schon"
DESCRIPTION:Frauen brauchen Männer und umgekehrt! Eigentlich eine Binsenweisheit. Doch wenn die Frau den Rasen mäht und der Mann sie mit Sonnenschirm begleitet\, ist irgendwas nicht richtig. Aller Geschlechtergerechtigkeit zum Trotz sehnt sich auch die moderne Frau nach positiver Männlichkeit. Aber ohne primitives Macho-Getue à la „kannst Du mit Deinen kalten Füßen mal mein Bier kühlen“\, sondern mit männlicher Klarheit\, Zielstrebigkeit und Entscheidungsfreude. Männer stehen heute dagegen morgens im Bad und denken: „Unterhose richtigrum angezogen –Tagesziel erreicht.“  \nDas Dilemma: ohne Männlichkeit und Weiblichkeit gibt es keine sexuelle Anziehung. Und so finden sich alle damit ab\, dass neben der Siebträgermaschine mittlerweile auch der Dildo zum gut sortierten Haushalt zählt\, während sich die Männer mehr mit Pornographie beschäftigen als mit ihrer Ehefrau. Gemäß dem Motto: „Appetit holen auswärts\, verhungern zuhause.“ Wie haben sich doch die Zeiten geändert. Früher hatten wir keinen Sex vor der Ehe\, heute keinen Sex in der Ehe. Kann man die Uhr nochmal zurückdrehen? Wie kommen wir zu mehr Zweisamkeit? Brauche ich dafür einen Helm?  \nVieles ist durcheinander geraten in unseren Tagen\, kein Stein steht mehr auf dem anderen. Früher waren die Leute smart und die Telefone blöd\, heute ist es umgekehrt. Man denkt: „Herr lass´ Hirn vom Himmel fallen. Oder Steine. Hauptsache\, Du triffst.“  \nStephan Bauers neues Programm ist ein Lichtblick. Die aberwitzige Rettung vor falschen Genderidealen\, überzogenen Glücksvorstellungen und Orientierungsverlust\, den die Moderne heute mit im Gepäck hat.  \nEin Mikrofon\, ein Barhocker und zwei Stunden Pointen Schlag auf Schlag. Und für das Publikum zwei Stunden Lachen ohne Atempause. Ganz der „große Bauer“ eben.
URL:https://halbneuntheater.de/veranstaltung/stephan-bauer-ehepaare-kommen-in-den-himmel-in-der-hoelle-waren-sie-schon-6/
CATEGORIES:1. Halbjahr 2023
ATTACH;FMTTYPE=image/jpeg:https://halbneuntheater.de/halbNeunV2/wp-content/uploads/2022/11/Stephan_Bauer.jpg
END:VEVENT
BEGIN:VEVENT
DTSTART;TZID=UTC:20230514T193000
DTEND;TZID=UTC:20230514T193000
DTSTAMP:20260419T155536
CREATED:20221123T072540Z
LAST-MODIFIED:20221123T072540Z
UID:5336-1684092600-1684092600@halbneuntheater.de
SUMMARY:Ausbilder Schmidt: "Morgen Ihr Luschen\, Luschienen und Lurche"
DESCRIPTION:In seinem neuen Programm regt sich Ausbilder Schmidt köstlich über alle Alltagshindernisse auf – vor allem über sämtliche Luschen Luschienen (gesprochen wie Schlumpfine) und Lurche. Comedy mit hoher Gagdichte und jede Menge Publikumsaktionen und Parodien.\nJa das ist des Ausbilders Mission: Anschiss für jeden\, hat noch keinem geschadet. Jawoll ! Und immer ein großer Spaß\, wenn Ausbilder Schmidt „aus der Rolle rausgeht“ und sich als Top-Ober-Lusche outet.  \nJa der arme Ausbilder Schmidt\, früher zur guten alten Wehrpflicht war ihm fast jeder Soldat geistig überlegen: Studenten\, Abiturienten und sonstige Wehrkraftzersetzer. Heute? Die Generation Kevin de Luxe kann leider gar nix. Selbst die Stiefel muss Ausbilder Schmidt seinen Rekruten morgens noch binden\, nachdem er ihnen die Uniform rausgelegt hat und den Milchkaffee (aus Sojamilch) ans Feldbett gebracht hat. Wenn Ausbilder Schmidt früher mit seinen Männern ins Manöver zog\, waren alle wieder pünktlich zum Morgenappell da. Heute? Die Hälfte der Rekruten verlaufen\, verletzt\, aufgegeben\, Mama angerufen um ihn/sie/es abzuholen. \nTolle 100 Minuten Comedyspass für Jeden.
URL:https://halbneuntheater.de/veranstaltung/ausbilder-schmidt-morgen-ihr-luschen-luschienen-und-lurche/
CATEGORIES:1. Halbjahr 2023
ATTACH;FMTTYPE=image/jpeg:https://halbneuntheater.de/halbNeunV2/wp-content/uploads/2022/11/Ausbilder_Schmidt.jpg
END:VEVENT
BEGIN:VEVENT
DTSTART;TZID=UTC:20230519T203000
DTEND;TZID=UTC:20230519T203000
DTSTAMP:20260419T155536
CREATED:20221123T073322Z
LAST-MODIFIED:20221123T073322Z
UID:5339-1684528200-1684528200@halbneuntheater.de
SUMMARY:Kabbaratz: "Wenn wir das früher gewusst hätten..."
DESCRIPTION:Fünf kleinere Mahlzeiten über den Tag verteilt! So sollte es sein. Das wusste jeder. Jahrzehntelang. Heute füttern wir so unseren Diabetes und leben nach der Paläodiät. Mal schaun wie lang. Als der „Club of Rome“ 1972 das Buch „Die Grenzen des Wachstums“ veröffentlichte\, konnte wirklich keiner ahnen\, dass die Diagnose unseres Planeten auch nach einem halben Jahrhundert später noch gültig sein würde. Dabei haben wir doch nun wirklich alles getan\, was wir konnten. Nur bitte nicht hier und bitte nicht jetzt.  \nIn ihrem 33. Programm geht es der sensiblen EVELYN WENDLER und ihrem robusten Partner PETER HOFFMANN um verfrühte Aussichten und verspätete Einsichten. Und immer wieder landen sie bei der Frage: Wollen Sie wirklich den Papierkorb leeren? Ganz klar: Vielleicht.
URL:https://halbneuntheater.de/veranstaltung/kabbaratz-wenn-wir-das-frueher-gewusst-haetten-2/
CATEGORIES:1. Halbjahr 2023
ATTACH;FMTTYPE=image/jpeg:https://halbneuntheater.de/halbNeunV2/wp-content/uploads/2022/11/Kabbaratz_Mai.jpg
END:VEVENT
BEGIN:VEVENT
DTSTART;TZID=UTC:20230520T203000
DTEND;TZID=UTC:20230520T203000
DTSTAMP:20260419T155536
CREATED:20221123T073830Z
LAST-MODIFIED:20221123T073830Z
UID:5345-1684614600-1684614600@halbneuntheater.de
SUMMARY:Kunz und Brosius: "Die Comedyshow"
DESCRIPTION:Peter Kunz und Luca Brosius sind mit der KUNZ & BROSIUS COMEDY-SHOW auf Tour!\nKunz ist Ingenieur und ein Kind der 80er Jahre\, als Food Trucks noch Imbisswagen hießen. Er achtet im Leben auf das Kleingedruckte\, kann es nur nicht mehr lesen. Brosius\, ist schwäbischer Saarländer\, Gesichtsakrobat\, Mann der 50 Stimmen und sowas\, wie der deutsche Mr. Bean.\nZusammen lassen es die beiden mächtig krachen: Egal\, ob mit meisterhaften Parodien von Karl Lauterbach bis Jorge González\, brüllend komischem Slapstick oder klassischer Stand-Up-Comedy\, die zwei garantieren ein turbulentes Live-Erlebnis in den angesagtesten und schönsten Städten Deutschlands!\nIn der KUNZ & BROSIUS COMEDY-SHOW scheitern sie konsequent in allen Lebenslagen\, nehmen sich dabei gegenseitig aufs Korn und sorgen für beste Unterhaltung.\nSteigen Sie ein in den Güterzug der guten Laune!
URL:https://halbneuntheater.de/veranstaltung/kunz-und-brosius-die-comedyshow/
CATEGORIES:1. Halbjahr 2023
ATTACH;FMTTYPE=image/jpeg:https://halbneuntheater.de/halbNeunV2/wp-content/uploads/2022/11/Kunz_-Brosius.jpg
END:VEVENT
BEGIN:VEVENT
DTSTART;TZID=UTC:20230521T193000
DTEND;TZID=UTC:20230521T193000
DTSTAMP:20260419T155536
CREATED:20221123T074417Z
LAST-MODIFIED:20221123T074417Z
UID:5348-1684697400-1684697400@halbneuntheater.de
SUMMARY:Bodo Bach: "Das Guteste aus 20 Jahren"
DESCRIPTION:Kinder wie die Zeit vergeht. Bodo Bach steht jetzt schon seit 20 Jahren auf der Bühne. Selber schuld – er hätte sich ja auch mal setzen können. Seit zwei Jahrzehnten ist Bodo Bach auf Welttournee durch Deutschland\, und das Showgeschäft fordert mit den Jahren seinen Tribut. Jeden Abend das Hotelzimmer zertrümmern\, das geht allmählich auf den Rücken. \nDa kommt man irgendwann ins Grübeln. Wie soll es jetzt weiter gehen mit Hessens beliebtestem Humorbotschafter? Zu jung für den Ruhestand\, zu alt für StandUp-Comedy – da bleibt nur eins: Ab sofort macht Bodo RuheStandUp-Comedy. \nBodo Bach nimmt Sie mit auf eine verrückte Vergnügungsreise durch seine acht Bühnenprogramme und präsentiert das Beste aus 20 Jahren … oder zumindest das bisschen\, das er sich davon noch merken konnte. \nFreuen Sie sich auf zwei Stunden prall gefüllt mit garagengepflegten Gebraucht-Gags und natürlich den schönsten Bach- und Lachgeschichten seiner Karriere. Bodo ist älter geworden\, vernünftiger aber nicht unbedingt. Auch auf seine alten Tage hat er nicht mehr alle Schnabeltassen im Schrank\, aber er lernt immer noch gern dazu. Zum Beispiel weiß er jetzt: Ein „Seniorenstift“ ist kein Kugelschreiber für alte Leute. \nIrgendwie ist es also auch ein Bildungsprogramm. Bodo mistet sein Oberstübchen aus und stellt dabei fest: Blödsinn wird nicht blöder\, sondern sinniger. \nEinen ganzen Abend lang hebt Bodo einen Sprachschatz nach dem anderen und erzählt noch einmal „Das Guteste aus 20 Jahren“.\nAlso Deutschland: Bodo Bach geht nochmal auf Tournee\, oder\, wer weiß\, vielleicht lässt er sich auch tragen … Jedenfalls sucht er dafür noch jede Menge applausbegabte und lachkundige Zuschauer. Möglichst aus der Region. Wegen der Umwelt. \nFür diese spezielle Jubiläums-Tournee setzt der Künstler zum ersten Mal auch auf eine sensationell aufwendige Bühnentechnik. Bodo kommt neuerdings nur noch mit Treppenlift auf die Bühne. Auch an atemberaubenden Spezialeffekten wurde diesmal nicht gespart. Am Anfang geht das Bühnenlicht an und am Ende geht es sogar wieder aus. Ja\, man kriegt was geboten fürs Geld! \nDeshalb besuchen Sie den hessischen Godfather of Babbsack\, und lassen Sie sich zwei Stunden lang das Zwerchfell kraulen.
URL:https://halbneuntheater.de/veranstaltung/bodo-bach-das-guteste-aus-20-jahren/
CATEGORIES:1. Halbjahr 2023
ATTACH;FMTTYPE=image/jpeg:https://halbneuntheater.de/halbNeunV2/wp-content/uploads/2022/11/Bodo_Bach.jpg
END:VEVENT
BEGIN:VEVENT
DTSTART;TZID=UTC:20230526T203000
DTEND;TZID=UTC:20230526T203000
DTSTAMP:20260419T155536
CREATED:20221123T075238Z
LAST-MODIFIED:20221123T075238Z
UID:5351-1685133000-1685133000@halbneuntheater.de
SUMMARY:Stefan Danziger: "Was machen Sie eigentlich tagsüber?"
DESCRIPTION:Geboren in der DDR\, wollten er und seine Familie in die BRD fliehen. Doch leider sind sie falsch abgebogen und in der Sowjetunion gelandet. Nach der Wende schaffte er es endlich in den Westen und landete in Berlin Wedding. Auf den Strassen Berlins erlernte er seinen Stil und die entdeckte seine Gabe\, Menschen stundenlang mit Geschichte voll zu brabbeln. Was anscheinend gut ankam und für witzig befunden wurde. Da es ihm nicht reichte\, das nur tagsüber zu tun\, beschloss er vor über fünf Jahren\, das auch nachts auf den Comedy Bühnen Berlins zu tun. Erst auf deutsch und dann noch auf englisch. Das eröffnete ihm die Möglichkeit auch auf den Bühnen Amsterdams\, Londons und Edinburghs aufzutreten. Seine Comedy beleuchtet charmant Geschichte und die Geschichten dahinter\, kulturelle Widersprüche und Absurditäten des Alltags.
URL:https://halbneuntheater.de/veranstaltung/stefan-danziger-was-machen-sie-eigentlich-tagsueber/
CATEGORIES:1. Halbjahr 2023
ATTACH;FMTTYPE=image/jpeg:https://halbneuntheater.de/halbNeunV2/wp-content/uploads/2022/11/Stefan_Danzinger.jpg
END:VEVENT
BEGIN:VEVENT
DTSTART;TZID=UTC:20230527T203000
DTEND;TZID=UTC:20230527T203000
DTSTAMP:20260419T155536
CREATED:20221123T075502Z
LAST-MODIFIED:20221123T075502Z
UID:5352-1685219400-1685219400@halbneuntheater.de
SUMMARY:Thilo Seibel: "Parodiesisch"
DESCRIPTION:Der Diktatorenbusenfreund Gerhard Schröder hat einmal gesagt\, man müsse „das Richtige tun“. Nur\, was ist „das Richtige“? Und das auch noch in Zeiten von Krieg\, Klimaerhitzung  und Corona? Schon vor Corona lebten wir ja im „postfaktischen Zeitalter“. Nur\, was ist das? Für die einen gelten Fakten vom Fun-Faktor her als etwa so attraktiv wie Frank Walter Steinmeier mit einer Dosis Beruhigungsmittel\, manche finden ausschließlich nackte Fakten aufregend\, und der Rest sagt: „Postfaktisches Zeitalter interessiert mich nicht. Seit wann ist denn die Post faktisch?“\nWas ist Fakt\, was ist Fake\, was ist Meinung\, was ist Bullshit? Sind wir klima- und coronabedingt kurz vor dem Untergang der menschlichen Zivilisation? Oder kann man ohnehin nicht mehr von „Zivilisation“ sprechen\, seit es Twitter und Facebook gibt?\nBenennen wir Fakten: In seinem neuen Programm „ParOdiesisch!“ bietet Thilo Seibel Analysen\, Spaß und Lösungsvorschläge. Und an diesem Abend sprechen auch Karl Lauterbach\, Christian Lindner\, Winfried Kretschmann\, Markus Lanz und Bruce Willis vor.\nDas ist zwar noch nicht das Paradies\, aber zumindest ein ParOdies.\nOb Thilo Seibel laut Pressestimmen nun „ein Meister des Parodierens“ ist oder „ein komödiantisches Naturtalent\, das aus allen Rohren feuert“ und ob er dabei „politisches Kabarett der Extraklasse“ liefert – diese Meinungen der Presse von der Augsburger- über die Rhein-Neckar- und die Dorstener bis hin zur Stuttgarter Zeitung können Sie selbst auf Faktengehalt überprüfen\, indem Sie einfach ins Theater kommen. \nRegie: Hans Holzbecher
URL:https://halbneuntheater.de/veranstaltung/thilo-seibel-parodiesisch/
CATEGORIES:1. Halbjahr 2023
ATTACH;FMTTYPE=image/jpeg:https://halbneuntheater.de/halbNeunV2/wp-content/uploads/2022/11/Thilo_Seibel.jpg
END:VEVENT
END:VCALENDAR