BEGIN:VCALENDAR
VERSION:2.0
PRODID:-//halbNeun-Theater - ECPv6.15.11//NONSGML v1.0//EN
CALSCALE:GREGORIAN
METHOD:PUBLISH
X-ORIGINAL-URL:https://halbneuntheater.de
X-WR-CALDESC:Veranstaltungen für halbNeun-Theater
REFRESH-INTERVAL;VALUE=DURATION:PT1H
X-Robots-Tag:noindex
X-PUBLISHED-TTL:PT1H
BEGIN:VTIMEZONE
TZID:UTC
BEGIN:STANDARD
TZOFFSETFROM:+0000
TZOFFSETTO:+0000
TZNAME:UTC
DTSTART:20220101T000000
END:STANDARD
END:VTIMEZONE
BEGIN:VEVENT
DTSTART;TZID=UTC:20230401T203000
DTEND;TZID=UTC:20230401T203000
DTSTAMP:20260419T142305
CREATED:20221122T101433Z
LAST-MODIFIED:20221122T101433Z
UID:5298-1680381000-1680381000@halbneuntheater.de
SUMMARY:Stefan Reusch: "Reusch rettet die Welt"
DESCRIPTION:Mit sanftem Lächeln und großer Geistesanwesenheit putzt REUSCH alles runter\, was ihn stört. Dazu gehören Mohnbrötchen und Lämmer\,\nSonnenschein und Krisenherde\, Männer und Frauen\, aber auch Kinder und Dosen. STEFAN REUSCH macht keine großen Gesten. Weil er sowieso recht hat. Mit Worten spart er nicht. Mit ihnen spaßt er. Nichts bleibt ungesagt\, alles muss raus. \nSchließlich geht es ja auch um etwas: Die Rettung der Welt. Gerettet werden u.a.: der Weltfrieden\, die Viererkette\, Bodenbeläge und mehrmals ein rotes Fischförmchen. Also Böses und Gutes. Alles. Das ist alles. \nAlso: Hingehen und gerettet werden!
URL:https://halbneuntheater.de/veranstaltung/stefan-reusch-reusch-rettet-die-welt/
CATEGORIES:1. Halbjahr 2023
ATTACH;FMTTYPE=image/jpeg:https://halbneuntheater.de/halbNeunV2/wp-content/uploads/2022/11/Stefan_Reusch.jpg
END:VEVENT
BEGIN:VEVENT
DTSTART;TZID=UTC:20230414T203000
DTEND;TZID=UTC:20230414T203000
DTSTAMP:20260419T142305
CREATED:20221122T102103Z
LAST-MODIFIED:20221122T102103Z
UID:5301-1681504200-1681504200@halbneuntheater.de
SUMMARY:The Chain: "A tribute to Fleetwood Mac"
DESCRIPTION:„The Chain“\, benannt nach dem gleichnamigen Song der Band Fleetwood Mac\, sind sechs Musiker\, die es sich zum Ziel gesetzt haben\, die zeitlosen Hits der Kultband Fleetwood Mac auf ihre eigene Art und Weise zu covern. Ganz nah dran am Original\, aber ohne dabei zur Kopie zu werden\, bieten sie ein zweieinhalb bis dreistündiges Feuerwerk mit den größten Hits der Band\, die fast fünf Jahrzehnte Musikgeschichte prägte. \nEnde 2017 initiierten die beiden Musiker Gerhard und Barbara Wiebe das Projekt und stellten eine Mannschaft zusammen\, die viele Jahrzehnte Bühnenerfahrung im In- und Ausland mitbringen und zum Teil mit Größen wie Saga\, Steppenwolf\, Alice Cooper\, Nazareth und vielen anderen getourt sind. \nNach all den Jahren haben die Songs von Fleetwood Mac nichts von ihrer Faszination eingebüßt. Ob gefühlvolle Balladen wie Dreams und Sara oder die vorwärtsdrängenden Dauerbrenner Don’t Stop und Go Your Own Way – um nur Einige zu nennen – The Chain lassen die unvergesslichen Ohrwürmer wieder auferstehen und reisen dafür auf größeren Bühnen mit zwei zusätzlichen Backing Vocals an. Lassen Sie sich dieses Fest der Sinne nicht entgehen! \n1) Gerhard Wiebe – Guitar\, Vocals\n2) Barbara Wiebe – Vocals\, Acoustic Guitar\n3) Andreas Keppler – Vocals\, Percussion\n4) Armin Schöneberger – Bass\n5) Chris Hinz – Keyboard\n6) Michael Ernst – Drums
URL:https://halbneuntheater.de/veranstaltung/the-chain-a-tribute-to-fleetwood-mac/
CATEGORIES:1. Halbjahr 2023
ATTACH;FMTTYPE=image/jpeg:https://halbneuntheater.de/halbNeunV2/wp-content/uploads/2022/11/The-Chain.jpg
END:VEVENT
BEGIN:VEVENT
DTSTART;TZID=UTC:20230415T203000
DTEND;TZID=UTC:20230415T203000
DTSTAMP:20260419T142305
CREATED:20221122T102642Z
LAST-MODIFIED:20221122T102642Z
UID:5304-1681590600-1681590600@halbneuntheater.de
SUMMARY:Leipziger Pfeffermühle: "Bio aus Rio"
DESCRIPTION:Ist Bio noch logisch\, wenn das Futter um die halbe Welt kutschiert wird?  Wenn alle Masken tragen – ist das noch Pandemie oder schon Karneval? Steigt wirklich der Meeresspiegel oder geht nur die Welt unter? Und gibt es vielleicht doch ein richtiges Leben im falschen\, nämlich ein richtig falsches?\nGenau die richtigen Fragen für die Leipziger Kabarettlegende Meigl Hoffmann und den jugendlichen Überflieger Bernard Liebermann. Gemeinsam mit dem Paganini des Pianos\, Thierry Gelloz\, sind sie das Trio von „Bio aus Rio“. Sie stolpern über herrliche Pointen\, aber sind dabei nicht auf den Mund gefallen. Kabarett\, Klavier und Karneval: Es erwarten Sie Zuckerhut und Peitsche. Machen Sie sich gefasst auf ein satirisches Programm zwischen Samba und Ramba-Zamba.\nHoffmann und Liebermann\, zwei Wortakrobaten beim humoristischen Drahtseilakt über den Abgründen unserer Zeit – Alt und Jung\, Ost und West\, Dick und Doof. Hereinspaziert\, hereinspaziert!
URL:https://halbneuntheater.de/veranstaltung/leipziger-pfeffermuehle-bio-aus-rio/
CATEGORIES:1. Halbjahr 2023
ATTACH;FMTTYPE=image/jpeg:https://halbneuntheater.de/halbNeunV2/wp-content/uploads/2022/11/Leipziger_Pfeffermuehle.jpg
END:VEVENT
BEGIN:VEVENT
DTSTART;TZID=UTC:20230420T203000
DTEND;TZID=UTC:20230420T203000
DTSTAMP:20260419T142305
CREATED:20221122T102932Z
LAST-MODIFIED:20221122T102932Z
UID:5307-1682022600-1682022600@halbneuntheater.de
SUMMARY:Erste Allgemeine Babenhäuser Pfarrer(!)-Kabarett: "Mach Kain Stress"
DESCRIPTION:Der Trainer von Bayern München bekommt nach dem Ausscheiden seines Vereins aus der Champions-League 450 Morddrohungen bei Instagram\, und „nach jedem Spiel eigentlich – egal ob wir gewinnen oder verlieren.“ Wenn er eine Dreierkette ankündigt bekommt er mehr als bei einer Viererkette. Rettungskräfte und Feuerwehrleute bekommen schon mal Prügel bei einem Einsatz und Bürgermeister werden aus dem Amt gemobbt\, wenn sie es wagen irgendwas zu unternehmen\, was einer Handvoll Wutbürgern gegen den Strich geht. Wo leben wir eigentlich? In Wuthausen? Choleristan? Kann sich jetzt jeder Simpel zum Westentaschendiktator upgraden\, nur weil er ein Smartphone und 35 Follower hat? Was ist mit Respekt? Und Anstand? Im Funkloch verschwunden? \nIn ihrem 15. Programm gehen die beiden grauhaarigen Pfarrerkabarettisten auf die Suche nach der verlorenen Vernunft. Bestimmt werden sie fündig bei ihrem intelligenten\, geschmackvollen und aufs Äußerste zahlungsbereiten Publikum\, das ihnen nun schon seit über 25 Jahren „in Hessen und den angrenzenden Kontinenten“ die Treue hält. Kein Wunder\, verkünden Hans-Joachim Greifenstein und Clajo Herrmann unverdrossen ihre Kernbotschaft\, die da lautet: „Eigentlich ist die Welt trotz allem ganz gut. Die Leute müssen es nur merken. Und mit uns fest dran glauben.“
URL:https://halbneuntheater.de/veranstaltung/erste-allgemeine-babenhaeuser-pfarrer-kabarett-mach-kain-stress-3/
CATEGORIES:1. Halbjahr 2023
ATTACH;FMTTYPE=image/jpeg:https://halbneuntheater.de/halbNeunV2/wp-content/uploads/2022/04/22_Pfarrer.jpg
END:VEVENT
BEGIN:VEVENT
DTSTART;TZID=UTC:20230421T203000
DTEND;TZID=UTC:20230421T203000
DTSTAMP:20260419T142305
CREATED:20221122T103502Z
LAST-MODIFIED:20230420T095934Z
UID:5310-1682109000-1682109000@halbneuntheater.de
SUMMARY:Sascha Korf: "Veni\, vidi\, witzig - Er kam\, er sprach\, sie lachten" - ABGESAGT
DESCRIPTION:Leider wurde diese Vorstellung\, wegen Erkrankung der Künstlerin\, abgesagt.\nBei Rückfragen sind wir von Mo.-Fr. von 10:00 Uhr bis 13:00 Uhr unter Tel. 06151 – 23330 zu erreichen.\nTicketrückgabe:\n\nSie haben Ihre Tickets direkt bei uns im halbNeun Theater gekauft?\n\nDann bekommen Sie Ihre Tickets direkt bei uns vor Ort zurückerstattet.\n\n\nSie haben Ihre Tickets über das Internet (unsere Homepage / zTix) bestellt?\n\nDann erhalten Sie Ihr Geld zurück. Wir führen die Prüfung im eigenen Inhouse-zTix-System durch und erstatten den Eintrittspreis. Wir benachrichtigen Sie per E-Mail. Wenn Sie keine Nachricht erhalten haben\, wenden Sie sich bitte direkt an uns. http://halbneuntheater.de/kontakt/\n\n\nSie haben Ihre Tickets bei einer (an das zTix-System angeschlossenen) VVK-Stellen erworben?\n\nDann bekommen Sie dort den vollen Kartenpreis erstattet. Die VVK-Stelle prüft die vorgelegte Ticketnummer im System und sperrt diese gleichzeitig gegen doppelte Auszahlung.\n\n\n\n———————————————— \nDas neue Solo-Programm des Improvisations-Experten Sascha Korf! \nNach dem Motto „Krise als Chance“ nimmt auch Sascha Korf etwas Bleibendes für sich aus der Pandemiezeit mit. „Das sieht man nicht zuletzt an meinem Bäuchlein“\, wie Deutschlands interaktivster Kabarettist zugibt.\nSascha hatte zudem viel Zeit\, sich neue Geschichten und Schabernack einfallen zu lassen.\nUnd so ist sein neustes Solo-Programm „VENI\, VIDI\, WITZIG“ gewohnt schnell\, lustig\, interaktiv und aktuell: Früher fuhr man zwei Stunden zum Supermarkt\, heute lässt man sich drei Tomaten in 10 Minuten nach Hause liefern. Früher wurden 12 Leute von einem Topf Chili satt. Heute kocht man für 12 in sieben verschiedenen Töpfen: Vegan\, Regional\, Paleo\, Low Carb\, nachhaltig und glutenfrei. \nDazu passt auch Saschas erster Gedichtband „Meine Pfanne und ich“\, welcher ebenso Platz auf der Bühne findet wie sein Roman „Sofa\, so Good“.\nLast but not least bekommen die Promis und Politiker*innen des Tages ihr Fett weg. Gekrönt wird der Abend mit der traditionellen Schlagerpantomime a la Sascha „Turbo“-Korf! \nAber Sascha Korf wäre nicht Sascha Korf wenn er nicht auch chronisch mit dem Publikum interagieren würde. Der sympathische und schlagfertige Kölner geht auf verbale Tuchfühlung mit seinen Gästen. Es entstehen einfühlsame\, herrliche und lustige Dialoge auf Augenhöhe.\nWie heißt es so schön: Beim Korf kommt man als Fremder und geht als Freund. \n„VENI\, VIDI\, WITZIG“ ist Sascha Korfs mittlerweile sechstes Bühnen-Programm. Den Zuschauer erwartet eine exquisite Mischung aus Stand-up\, Kabarett und Interaktion: Eine Wunder-Tüte\, die jeden Abend anders verlaufen lässt und einige Überraschungen parat hält.\nLassen Sie sich verzaubern\, unterhalten und bespaßen. Denn bei Sascha sitzt man überall in der ersten Reihe.
URL:https://halbneuntheater.de/veranstaltung/sascha-korf-veni-vidi-witzig-er-kam-er-sprach-sie-lachten/
CATEGORIES:1. Halbjahr 2023
ATTACH;FMTTYPE=image/jpeg:https://halbneuntheater.de/halbNeunV2/wp-content/uploads/2022/11/Sascha_Korf.jpg
END:VEVENT
BEGIN:VEVENT
DTSTART;TZID=UTC:20230422T203000
DTEND;TZID=UTC:20230422T203000
DTSTAMP:20260419T142305
CREATED:20221122T105018Z
LAST-MODIFIED:20221122T105018Z
UID:5313-1682195400-1682195400@halbneuntheater.de
SUMMARY:Kabbaratz: "Wenn wir das früher gewusst hätten..." PREMIERE
DESCRIPTION:Fünf kleinere Mahlzeiten über den Tag verteilt! So sollte es sein. Das wusste jeder. Jahrzehntelang. Heute füttern wir so unseren Diabetes und leben nach der Paläodiät. Mal schaun wie lang. Als der „Club of Rome“ 1972 das Buch „Die Grenzen des Wachstums“ veröffentlichte\, konnte wirklich keiner ahnen\, dass die Diagnose unseres Planeten auch nach einem halben Jahrhundert später noch gültig sein würde. Dabei haben wir doch nun wirklich alles getan\, was wir konnten. Nur bitte nicht hier und bitte nicht jetzt.  \nIn ihrem 33. Programm geht es der sensiblen EVELYN WENDLER und ihrem robusten Partner PETER HOFFMANN um verfrühte Aussichten und verspätete Einsichten. Und immer wieder landen sie bei der Frage: Wollen Sie wirklich den Papierkorb leeren? Ganz klar: Vielleicht.
URL:https://halbneuntheater.de/veranstaltung/kabbaratz-wenn-wir-das-frueher-gewusst-haetten-premiere/
CATEGORIES:1. Halbjahr 2023
ATTACH;FMTTYPE=image/jpeg:https://halbneuntheater.de/halbNeunV2/wp-content/uploads/2022/11/Kabbaratz_April.jpg
END:VEVENT
BEGIN:VEVENT
DTSTART;TZID=UTC:20230428T203000
DTEND;TZID=UTC:20230428T203000
DTSTAMP:20260419T142305
CREATED:20221122T105320Z
LAST-MODIFIED:20221122T105320Z
UID:5314-1682713800-1682713800@halbneuntheater.de
SUMMARY:Peter Vollmer: "Er hat die Hosen an - sie sagt ihm\, welche"
DESCRIPTION:Für den Mann des 21. Jahrhunderts wird die Luft immer dünner: Sein Auto fährt demnächst alleine los. Seine digitale Demenz ist so weit fortgeschritten\, dass er ohne Navigations-App nicht mal mehr dem Weg zum Kleiderschrank findet. Und die Industrie entwickelt Roboter\, die man auf „Kuschelsex“ programmieren kann. Gehört der männliche homo sapiens also auf die Liste der bedrohten Arten? Oder kann er zeigen\, dass er doch noch für irgend etwas zu gebrauchen ist?PETER VOLLMER jedenfalls ist stets bemüht\, als Vater\, Verdiener und Versteher für Frau und Kinder unentbehrlich zu bleiben. Er ist deshalb sogar bereit zu kochen (mit dem Thermomix)\, gesund zu leben (etwa einmal die Woche) und sich strikt an die verordnete Trennkost zu halten\n(erst die Fritten\, dann die Wurst).\nOkay\, gelegentlich sucht er die Rückzugsgebiete auf\, in denen noch der guten alten Männerherrlichkeit gefrönt werden kann: Beim Whiskey-\nTasting etwa\, oder beim Kauf des Sitzrasenmähers\, für den er in der heimischen Altbauwohnung jetzt nur noch eine irgendwie sinnvolle\nVerwendung finden muss…\nUnd auch wenn seine Frau all dies natürlich mit größter Skepsis betrachtet; ganz am Ende sieht sie ein: Auch Gatten können Götter sein!
URL:https://halbneuntheater.de/veranstaltung/peter-vollmer-er-hat-die-hosen-an-sie-sagt-ihm-welche-5/
CATEGORIES:1. Halbjahr 2023
ATTACH;FMTTYPE=image/jpeg:https://halbneuntheater.de/halbNeunV2/wp-content/uploads/2022/11/Peter_Vollmer.jpg
END:VEVENT
BEGIN:VEVENT
DTSTART;TZID=UTC:20230429T203000
DTEND;TZID=UTC:20230429T203000
DTSTAMP:20260419T142305
CREATED:20221122T105554Z
LAST-MODIFIED:20221122T105554Z
UID:5315-1682800200-1682800200@halbneuntheater.de
SUMMARY:Hans-Joachim Heist: "Noch'n Gedicht - Der große Heinz Erhard Abend"
DESCRIPTION:„Ich heiße nicht nur Heinz Erhardt\, sondern Sie auch alle herzlich willkommen.“ Wenn HANS-JOACHIM HEIST die Erhardtbrille aufsetzt\, die Haltung von Heinz Erhardt annimmt und in seiner unverwechselbaren Art spricht\, meint man\, Heinz Erhardt stehe da\, der verschmitzt\, spitzbübisch und fantasievoll mit seinen Wortspielereien\, Pointen und Reimen ein Millionenpublikum begeisterte. \n„… das Publikum ist hin: Wie er die Pointen setzt\, wie er sich an die Brille greift\, ganz wie der Meister! Das volle Gesicht\, das spärliche Haar: Die physiognomische Ähnlichkeit ist erstaunlich … Heist schlüpft in die Rolle des Königs der Kalauer und bietet … einen Querschnitt durch Erhardts schönste Reime und Wortspielereien … das lebende große Heinz-Erhardt-Buch.“ (Darmstädter Echo)
URL:https://halbneuntheater.de/veranstaltung/hans-joachim-heist-nochn-gedicht-der-grosse-heinz-erhard-abend/
CATEGORIES:1. Halbjahr 2023
ATTACH;FMTTYPE=image/jpeg:https://halbneuntheater.de/halbNeunV2/wp-content/uploads/2022/11/Hans_Joachim_Heist.jpg
END:VEVENT
END:VCALENDAR