BEGIN:VCALENDAR
VERSION:2.0
PRODID:-//halbNeun-Theater - ECPv6.15.11//NONSGML v1.0//EN
CALSCALE:GREGORIAN
METHOD:PUBLISH
X-ORIGINAL-URL:https://halbneuntheater.de
X-WR-CALDESC:Veranstaltungen für halbNeun-Theater
REFRESH-INTERVAL;VALUE=DURATION:PT1H
X-Robots-Tag:noindex
X-PUBLISHED-TTL:PT1H
BEGIN:VTIMEZONE
TZID:UTC
BEGIN:STANDARD
TZOFFSETFROM:+0000
TZOFFSETTO:+0000
TZNAME:UTC
DTSTART:20220101T000000
END:STANDARD
END:VTIMEZONE
BEGIN:VEVENT
DTSTART;TZID=UTC:20230303T203000
DTEND;TZID=UTC:20230303T203000
DTSTAMP:20260419T125119
CREATED:20221122T092109Z
LAST-MODIFIED:20230130T091935Z
UID:5263-1677875400-1677875400@halbneuntheater.de
SUMMARY:Madeleine Sauveur: "Lassen Sie mich durch\, ich bin Oma!" - ABGESAGT
DESCRIPTION:Leider muss diese Vorstellung abgesagt werden.\nBei Rückfragen sind wir von Mo.-Fr. von 10:00 Uhr bis 13:00 Uhr unter Tel. 06151 – 23330 zu erreichen.\nTicketrückgabe:\n\nSie haben Ihre Tickets direkt bei uns im halbNeun Theater gekauft?\n\nDann bekommen Sie Ihre Tickets direkt bei uns vor Ort zurückerstattet.\n\n\nSie haben Ihre Tickets über das Internet (unsere Homepage / zTix) bestellt?\n\nDann erhalten Sie Ihr Geld zurück. Wir führen die Prüfung im eigenen Inhouse-zTix-System durch und erstatten den Eintrittspreis. Wir benachrichtigen Sie per E-Mail (aktuell wegen Systemumstellung unseres Ticketanbieters nicht möglich. Ihnen wird der volle Ticketpreis jedoch zurückerstattet). Wenn Sie keine Nachricht erhalten haben\, wenden Sie sich bitte direkt an uns. http://halbneuntheater.de/kontakt/\n\n\nSie haben Ihre Tickets bei einer (an das zTix-System angeschlossenen) VVK-Stellen erworben?\n\nDann bekommen Sie dort den vollen Kartenpreis erstattet. Die VVK-Stelle prüft die vorgelegte Ticketnummer im System und sperrt diese gleichzeitig gegen doppelte Auszahlung.\n\n\n\n———————————————— \nMadeleine Sauveur\, Komödiantin mit vielen Gesichtern und Musikkabarettistin mit imposanter Gesangsstimme\, hatte immer eine genaue Vorstellung davon\, wie die Zeit jenseits der 60 aussieht: \nDa werden Träume verwirklicht\, für die vorher nie Zeit war! Endlich in Borneo eine Orang-Utan-Station aufbauen\, mit Installateur Kowalski im Bad eine Fußbodenheizung installieren\, endlich sich mit einer Donald Trump Maske ins Auto setzen\, sich blitzen lassen und fröhlich in die Kamera winken – und immer noch genug auf dem Konto\, um Ärzte ohne Grenzen zu unterstützen. \nSie hat ihr Leben als berufstätige Mutter gelebt – jetzt kommt sie selbst dran. Frei schweben im Hier und Jetzt\, lautet ihr Motto\, und sie hat sich fest vorgenommen\, zum ersten Mal im Leben nur an sich zu denken. \nDoch dann kommt der Anruf\, der alles verändern sollte: „Hallo Mama! Du bist jetzt Oma! Wir bringen Dir die Kleine morgen um 7.00 vorbei. Freust Du dich?“ – und schon sind alle Pläne Makulatur. Dafür stellt sie sich drei Fragen\, auf die sie unbedingt eine Antwort finden muss:\nWarum kommt man im Leben nicht dazu\, seine Träume zu verwirklichen?\nWelche Art von Oma will ich sein – Oma classic oder Oma light? \nUnd wie um alles in der Welt kann es sein\, dass man nachts um drei völlig übermüdet ein lebendiges Megaphon mit Verdauungsproblemen stundenlang auf dem Arm trägt – und dabei vor Stolz und Glück aus dem Lächeln nicht mehr rauskommt? \n„Lassen Sie mich durch – ich bin Oma!“ ist ein Programm für Menschen ab 30\, die sich trauen und Freude daran haben\, jetzt schon an die Zukunft zu denken: Intelligent\, komisch\, unterhaltsam\, warmherzig – und dank Kapellmeister Clemens Maria Kitschen\, der in hohen und tiefen Tönen auf diversen Instrumenten brilliert\, musikalisch auf höchstem Niveau!\nKomma zur Oma!
URL:https://halbneuntheater.de/veranstaltung/madeleine-sauveur-lassen-sie-mich-durch-ich-bin-oma-2/
CATEGORIES:1. Halbjahr 2023
ATTACH;FMTTYPE=image/jpeg:https://halbneuntheater.de/halbNeunV2/wp-content/uploads/2022/11/Madeleine_Sauveur.jpg
END:VEVENT
BEGIN:VEVENT
DTSTART;TZID=UTC:20230304T203000
DTEND;TZID=UTC:20230304T203000
DTSTAMP:20260419T125119
CREATED:20220322T142538Z
LAST-MODIFIED:20230302T151245Z
UID:4879-1677961800-1677961800@halbneuntheater.de
SUMMARY:Josef Brustmann: "Das Leben ist kurz - kauf die roten Schuh' " - ABGESAGT
DESCRIPTION:Leider wurde diese Vorstellung abgesagt.\nBei Rückfragen sind wir von Mo.-Fr. von 10:00 Uhr bis 13:00 Uhr unter Tel. 06151 – 23330 zu erreichen.\nTicketrückgabe:\n\nSie haben Ihre Tickets direkt bei uns im halbNeun Theater gekauft?\n\nDann bekommen Sie Ihre Tickets direkt bei uns vor Ort zurückerstattet.\n\n\nSie haben Ihre Tickets über das Internet (unsere Homepage / zTix) bestellt?\n\nDann erhalten Sie Ihr Geld zurück. Wir führen die Prüfung im eigenen Inhouse-zTix-System durch und erstatten den Eintrittspreis. Wir benachrichtigen Sie per E-Mail. Wenn Sie keine Nachricht erhalten haben\, wenden Sie sich bitte direkt an uns. http://halbneuntheater.de/kontakt/\n\n\nSie haben Ihre Tickets bei einer (an das zTix-System angeschlossenen) VVK-Stellen erworben?\n\nDann bekommen Sie dort den vollen Kartenpreis erstattet. Die VVK-Stelle prüft die vorgelegte Ticketnummer im System und sperrt diese gleichzeitig gegen doppelte Auszahlung.\n\n\n\n———————————————— \nUnd immer wieder flüstert`s der Teufel dem Papst in`s Ohr: kauf dir die roten Schuhe.\nUnd die roten Schuhe meiner Frau sind extrem hochhackig und zum Gehen kaum geeignet.\n„Bettschuhe“ nenne ich sie zärtlich. Rote Schuhe kaufen sich Frauen leidenschaftlich gerne. In erster Linie für sich\, erst in zweiter für uns Männer.\nRote Schuhe\, das ist Lebenslust\, Verführung\, Sünde\, Luxus und Überfluss\, Untergang.\nJosef Brustmann kennt sich aus\, weiss darüber meisterlich zu erzählen und kesse Lieder zu singen.\nAuch er hat sich vor 30 Jahren originale rote DocMartens mit knallgelber Naht gekauft. Jetzt trägt er sie auf\, bevor alles zu spät ist.\n(Das Experiment\, Frauen mit roten Schuhen kostenlos in mein neues Kabarettprogramm zu lassen\, haben wir nur einmal gemacht\, alle Frauen kamen mit roten Schuhen.)
URL:https://halbneuntheater.de/veranstaltung/josef-brustmann-das-leben-ist-kurz-kauf-die-roten-schuh-2/
CATEGORIES:1. Halbjahr 2023
ATTACH;FMTTYPE=image/jpeg:https://halbneuntheater.de/halbNeunV2/wp-content/uploads/2021/11/220324_Josef_Brustmann.jpg
END:VEVENT
BEGIN:VEVENT
DTSTART;TZID=UTC:20230310T203000
DTEND;TZID=UTC:20230310T203000
DTSTAMP:20260419T125119
CREATED:20221122T092459Z
LAST-MODIFIED:20221122T092459Z
UID:5267-1678480200-1678480200@halbneuntheater.de
SUMMARY:Alice Hoffmann: "Torschlusspanik"
DESCRIPTION:In ihrem neuestem Programm „Torschlusspanik“ gelangt Alice Hoffmann an den Punkt in ihrem Leben als Hausfrau\, an dem sie sich fragt ob sie wirklich alles schon alles gemacht hat\, was sie sich auch vornahm.\nAyurveda-Kuren\, eine neue Sprache lernen oder sich noch einmal unsterblich verlieben. Natürlich kommt es aber anders. Wieder einmal wird deutlich\, dass das leben kein Wunschkonzert ist.\nMit ihren spitzen Zunge\, dem Wortwitz und einer Portion frechem Charme\, sorgt Alice Hoffmann beim Pulbikum wieder einmal für einen Lachmuskelkater vom Feinsten! \nBuch: Alice Hoffmann & Stephan C. Braun
URL:https://halbneuntheater.de/veranstaltung/alice-hoffmann-torschlusspanik/
CATEGORIES:1. Halbjahr 2023
ATTACH;FMTTYPE=image/jpeg:https://halbneuntheater.de/halbNeunV2/wp-content/uploads/2022/11/Alice_Hoffmann.jpg
END:VEVENT
BEGIN:VEVENT
DTSTART;TZID=UTC:20230311T203000
DTEND;TZID=UTC:20230311T203000
DTSTAMP:20260419T125119
CREATED:20220304T101732Z
LAST-MODIFIED:20220304T103003Z
UID:4870-1678566600-1678566600@halbneuntheater.de
SUMMARY:Thomas Reis: "Mit Abstand das Beste"
DESCRIPTION:Das Lachen in Zeiten der Corona hat seine eigenen Gesetze. Daher spielt Thomas Reis ab sofort ein (fast ganz) neues Programm: „Mit Abstand das Beste“\, eine geladene\, humoristische Riesen-Packung mit vielen aktuellen\, vulnerablen und infektiösen Texten\, gespickt mit komischen Klassikern seines satirischen Schaffens. Mit diesem schillernd scharfsinnigen Kabarett-Programm voll leichtfüßiger Bissigkeit schafft Reis ein ganz neues Wirus-Gefühl.  \nWir lachen uns tot\, denn Lachen ist die beste Medizin. Das ist ein Dilemma. Genau wie das uns alle beherrschende Thema. Könnt Ihr’s noch hören? Nein. Interessiert Euch für was anderes? Nein. Das ist das zweite Dilemma. Thomas Reis wird Euch aus diesem Dilemma führen. Wie? Das werdet Ihr erleben\, wenn Ihr kommt – und das werdet Ihr doch\, denn wo Wahn zu Sinn wird\, wird Humor zur Pflicht!  \nMögen die hygienischen Rahmenbedingungen noch so kulturfeindlich und spaß-bremsend sein\, für die Nähe zum Puls der Zeit gilt keine Kontaktbeschränkung. Und Thomas Reis ist immer ganz nah dran\, „es gelingt ihm stets\, sein Kabarett so frisch zu halten wie Kopfsalat aus der 3-Sterne-Küche“ (WDR 5).  \n„Mit Abstand das Beste“ ist es\, den Humor nicht zu verlieren\, und dafür ist Kabarett à la Thomas Reis sicher mit Abstand das Beste. Auch wenn das mit dem Abstand nicht so leicht ist für den eher als distanzlos bekannten „Kult-Kabarettisten ohne Obergrenze für schwarzen Humor“ (SWR 3)\, der sich vor Nähe nie gefürchtet und deshalb schon oft die Zunge verbrannt hat. Im Frühjahr 2020 wurde er mit dem Ehrenpreis des Kleinkunstpreises des Landes Baden-Württemberg für sein (bisheriges) Gesamtwerk ausgezeichnet. Leider konnte davon niemand Kenntnis nehmen\, da es sich bei dieser staatstragenden Huldigung um eine Geister-Ehrung handelte. Das war sehr schade für den Künstler\, da die Jury schmeichelhafte Worte für seine derzeit arg geschundene Künstlerseele fand: „In puncto Scharfzüngigkeit spielt er in der Champions League. (…) So sieht brillantes Kabarett aus\, in dieser Qualität eine absolute Extra-Klasse.“ \nEs steht in den Sternen\, ob die Preisverleihung im Laufe der nächsten Jahrzehnte unter Einbeziehung der Öffentlichkeit nachgeholt wird\, fest steht jedoch mit nahezu gewisser Wahrscheinlichkeit\, dass Sie diesen Künstler in unserem Hause live erleben können\, das schwören wir feierlich\, so wahr uns Robert Koch helfe. Zeigen Sie Covid-19 die rote Karte! Wir werden lernen müssen\, zusammen mit dem bösartigen\, kleinen Racker zu leben. Lassen Sie sich nicht unterkriegen\, überleben Sie gut und gehen Sie mal wieder raus\, denn Back to lives matters auch.
URL:https://halbneuntheater.de/veranstaltung/thomas-reis-mit-abstand-das-beste-3/
CATEGORIES:1. Halbjahr 2023
ATTACH;FMTTYPE=image/jpeg:https://halbneuntheater.de/halbNeunV2/wp-content/uploads/2021/11/220304_Thomas_Reis.jpg
END:VEVENT
BEGIN:VEVENT
DTSTART;TZID=UTC:20230312T193000
DTEND;TZID=UTC:20230312T193000
DTSTAMP:20260419T125119
CREATED:20221122T093131Z
LAST-MODIFIED:20230308T094213Z
UID:5270-1678649400-1678649400@halbneuntheater.de
SUMMARY:Constanze Lindner: "Miss Verständnis" - ABGESAGT
DESCRIPTION:Leider muss diese Vorstellung abgesagt werden.\nBei Rückfragen sind wir von Mo.-Fr. von 10:00 Uhr bis 13:00 Uhr unter Tel. 06151 – 23330 zu erreichen.\nTicketrückgabe:\n\nSie haben Ihre Tickets direkt bei uns im halbNeun Theater gekauft?\n\nDann bekommen Sie Ihre Tickets direkt bei uns vor Ort zurückerstattet.\n\n\nSie haben Ihre Tickets über das Internet (unsere Homepage / zTix) bestellt?\n\nDann erhalten Sie Ihr Geld zurück. Wir führen die Prüfung im eigenen Inhouse-zTix-System durch und erstatten den Eintrittspreis. Wir benachrichtigen Sie per E-Mail (aktuell wegen Systemumstellung unseres Ticketanbieters nicht möglich. Ihnen wird der volle Ticketpreis jedoch zurückerstattet). Wenn Sie keine Nachricht erhalten haben\, wenden Sie sich bitte direkt an uns. http://halbneuntheater.de/kontakt/\n\n\nSie haben Ihre Tickets bei einer (an das zTix-System angeschlossenen) VVK-Stellen erworben?\n\nDann bekommen Sie dort den vollen Kartenpreis erstattet. Die VVK-Stelle prüft die vorgelegte Ticketnummer im System und sperrt diese gleichzeitig gegen doppelte Auszahlung.\n\n\n\nDiese Frau hat viel durchgemacht. Vor allem Nächte. Und in diesen dunklen Stunden hat sie aufgeschrieben\, was in ihrem Leben falsch verstanden wurde und werden wird. Sie ist zu dem Schluss gekommen: Alles. \nVom ersten Schrei bis zum letzten Witz\, nichts kommt so an\, wie es gemeint war. Die Beschimpfungen im Sandkasten\, die Schwüre der ersten großen Liebe\, die Fummeleien der zweiten bis elften\, das gepunktete Kleid bei der Verlobung und sogar die derben Späße bei Beerdigungen… alles gerät in falsche Hälse und schlägt dann auf die Mägen. Und dann nicht mal drei Richtige im Lotto. \nWohin so ein Schatz an vollkommen falsch verstandenen Erfahrungen führen kann\, zeigt uns Constanze Lindner in ihrem neuen Programm.\nUnmissverständlich begleitet von den sympathischen und saukomischen Schatten\, die ab und zu aus ihr heraustreten. Cordula Brödke oder die Oma werden nicht fehlen. \nWer diesen Abend erlebt hat\, beginnt alle Missverständnisse zu verstehen und Verständnis für jeden vermissten Versteher zu entwickeln.\nUnd wer es sich nicht ansehen will\, bekommt richtig Probleme. Verständnisprobleme.\nVerstanden?
URL:https://halbneuntheater.de/veranstaltung/constanze-lindner-miss-verstaendnis/
CATEGORIES:1. Halbjahr 2023
ATTACH;FMTTYPE=image/jpeg:https://halbneuntheater.de/halbNeunV2/wp-content/uploads/2022/11/Constanze_Lindner.jpg
END:VEVENT
BEGIN:VEVENT
DTSTART;TZID=UTC:20230316T203000
DTEND;TZID=UTC:20230316T203000
DTSTAMP:20260419T125119
CREATED:20221122T093423Z
LAST-MODIFIED:20221122T093423Z
UID:5274-1678998600-1678998600@halbneuntheater.de
SUMMARY:Erste Allgemeine Babenhäuser Pfarrer(!)-Kabarett: "Mach Kain Stress"
DESCRIPTION:Der Trainer von Bayern München bekommt nach dem Ausscheiden seines Vereins aus der Champions-League 450 Morddrohungen bei Instagram\, und „nach jedem Spiel eigentlich – egal ob wir gewinnen oder verlieren.“ Wenn er eine Dreierkette ankündigt bekommt er mehr als bei einer Viererkette. Rettungskräfte und Feuerwehrleute bekommen schon mal Prügel bei einem Einsatz und Bürgermeister werden aus dem Amt gemobbt\, wenn sie es wagen irgendwas zu unternehmen\, was einer Handvoll Wutbürgern gegen den Strich geht. Wo leben wir eigentlich? In Wuthausen? Choleristan? Kann sich jetzt jeder Simpel zum Westentaschendiktator upgraden\, nur weil er ein Smartphone und 35 Follower hat? Was ist mit Respekt? Und Anstand? Im Funkloch verschwunden? \nIn ihrem 15. Programm gehen die beiden grauhaarigen Pfarrerkabarettisten auf die Suche nach der verlorenen Vernunft. Bestimmt werden sie fündig bei ihrem intelligenten\, geschmackvollen und aufs Äußerste zahlungsbereiten Publikum\, das ihnen nun schon seit über 25 Jahren „in Hessen und den angrenzenden Kontinenten“ die Treue hält. Kein Wunder\, verkünden Hans-Joachim Greifenstein und Clajo Herrmann unverdrossen ihre Kernbotschaft\, die da lautet: „Eigentlich ist die Welt trotz allem ganz gut. Die Leute müssen es nur merken. Und mit uns fest dran glauben.“
URL:https://halbneuntheater.de/veranstaltung/erste-allgemeine-babenhaeuser-pfarrer-kabarett-mach-kain-stress-2/
CATEGORIES:1. Halbjahr 2023
ATTACH;FMTTYPE=image/jpeg:https://halbneuntheater.de/halbNeunV2/wp-content/uploads/2022/04/22_Pfarrer.jpg
END:VEVENT
BEGIN:VEVENT
DTSTART;TZID=UTC:20230317T203000
DTEND;TZID=UTC:20230317T203000
DTSTAMP:20260419T125119
CREATED:20221122T093843Z
LAST-MODIFIED:20221122T093843Z
UID:5277-1679085000-1679085000@halbneuntheater.de
SUMMARY:Hans Gerzlich: "Das bisschen Haushalt… ist doch kein Problem - dachte ich"
DESCRIPTION:„Du bist doch den ganzen Tag Zuhause!“ Kennen Sie diesen Satz? Hans Gerzlich auch. Aus seinem eigenen Mund. Er hat ihn oft genug gesagt. Zu seiner Frau – bis diese den Spieß umgedreht hat. Er wollte immer der Herr im Hause sein\, jetzt ist er es: Nun macht sie Karriere\, er den Haushalt. \nUnd lernt ein Leben kennen\, in dem er sich nicht mehr fit hält durch Tennis mit den Kumpels nach Büroschluss\, sondern durch Betten aufhängen und Wäsche beziehen\, Hemden wischen und Staub bügeln. Prozess-Neustrukturierung in Küche und Waschkeller. Chaos vorprogrammiert.\nEs ist ein neues Leben\, in dem er das erste freundliche Wort des Tages hört\, wenn die Kassiererin im Supermarkt den Preis flötet. Ein Leben\, in dem es bei der Gattin schon zum dritten Mal in dieser Woche wieder später wird im Büro – und es ist erst Dienstag. Vorbei die Zeiten\, als er selbst noch Wolf im Schafspelz war. \nAuf der Tupper-Party ist er dafür jetzt Hahn im Korb. Und auf der ProWin-Party. Und der Thermomix-Party. Nur bei der Dessous-Party wollten seine Nachbarinnen ihn nicht dabei haben. Kann man verstehen. Den Anblick eines Mannes im Leoparden-Tanga wollten sie sich dann doch ersparen. \nFür ihn heißt es nun: Kinder\, Küche\, Karrierefrau. Dummerweise kommt die abends gutgelaunt aus dem Büro\, hat Lust auf Sex – und er Kopfschmerzen.
URL:https://halbneuntheater.de/veranstaltung/hans-gerzlich-das-bisschen-haushalt-ist-doch-kein-problem-dachte-ich-5/
CATEGORIES:1. Halbjahr 2023
ATTACH;FMTTYPE=image/jpeg:https://halbneuntheater.de/halbNeunV2/wp-content/uploads/2022/11/Hans_Gerzlich.jpg
END:VEVENT
BEGIN:VEVENT
DTSTART;TZID=UTC:20230318T203000
DTEND;TZID=UTC:20230318T203000
DTSTAMP:20260419T125119
CREATED:20221122T094310Z
LAST-MODIFIED:20221122T094310Z
UID:5280-1679171400-1679171400@halbneuntheater.de
SUMMARY:Purple Rising: "The Deep Purple Experience"
DESCRIPTION:Deep Purple gilt zusammen mit Led Zeppelin und Black Sabbath als Wegbereiter des klassischen Hard Rock. Mit Titeln wie Black Night\, Smoke on the Water\, Child in Time oder Burn schuf die Band Klassiker für die Ewigkeit\, die auch nach 40 Jahren nichts von ihrer Frische und Authentizität eingebüßt haben. \nPurple Rising interpretiert die Musik von Deep Purple gekonnt virtuos\, ganz im Stil der Siebziger: Furiose Improvisationen und wilde Duelle zwischen Gitarrist Joachim Villwock und Tastenmann Andreas König\, der bereits mit Deep-Purple-Legende Jon Lord auf der Bühne stand\, lassen Songs wie Child in Time und Space Truckin’ gerne auch einmal die 20-Minuten-Marke sprengen. Scheinbar spielend meistert dabei der charismatische\, stimmgewaltige Frontmann Patrick Sühl den Spagat zwischen sämtlichen Deep-Purple-Sängern. Wie beim Original anno 1970 wird so jedes Konzert zu einem einzigartigen Erlebnis. \nPurple Rising weiß jedoch nicht nur musikalisch\, sondern auch mit einer energiegeladenen Bühnenshow auf Original-Instrumenten zu begeistern. Marshall-Türme\, ein Ludwig-Drumset\, eine Hammond C-3 nebst zwei Leslies und die Fender Stratocaster sind für eine authentische Darbietung ebenso obligatorisch wie die extravaganten Showeinlagen des Gitarristen\, die Erinnerungen an die Bühnenpräsenz des jungen Ritchie Blackmore wach werden lassen. \nCome taste the Band!\nPatrick Sühl – Vocals\nJoachim Villwock – Guitar\nAndreas König – Hammond & Keyboards\nDominik Stotzem – Bass\nMarco Menzer – Drums
URL:https://halbneuntheater.de/veranstaltung/purple-rising-the-deep-purple-experience-2/
CATEGORIES:1. Halbjahr 2023
ATTACH;FMTTYPE=image/jpeg:https://halbneuntheater.de/halbNeunV2/wp-content/uploads/2022/11/Purple_Rising.jpg
END:VEVENT
BEGIN:VEVENT
DTSTART;TZID=UTC:20230319T150000
DTEND;TZID=UTC:20230319T150000
DTSTAMP:20260419T125119
CREATED:20221122T094738Z
LAST-MODIFIED:20221122T094738Z
UID:5283-1679238000-1679238000@halbneuntheater.de
SUMMARY:Kindertheater Cargo Theater: "El Dorado"
DESCRIPTION:Ein Sandkasten-Western für alle ab 4 Jahren \nEl Dorado – das ist das Versprechen auf grenzenlose Freiheit in den Weiten der Sandberge. Hier lohnt es sich\, nach einem Schatz zu graben. El Dorado. Das ist ein Ort fernab aller bekannten Regeln. Seine Helden und Heldinnen haben ihre eigenen Gesetze. Der Weg durch die Wüste ist weit und der Schatz liegt nicht da\, wo er vermutet wurde. Nach wilder Verfolgungsjagd reiten die mutigen Schatzsuchenden durch den reißenden Fluss\, trotzen endlosen Entfernungen und dem eisigen Gebirgspass. Und am Ende kommt es dann natürlich zum Showdown. Ganz ohne Männer mit Pistolen. Ein Spiel um Gerechtigkeit und Freundschaft.
URL:https://halbneuntheater.de/veranstaltung/kindertheater-cargo-theater-el-dorado/
CATEGORIES:1. Halbjahr 2023
ATTACH;FMTTYPE=image/jpeg:https://halbneuntheater.de/halbNeunV2/wp-content/uploads/2022/11/Cargo_Theater.jpg
END:VEVENT
BEGIN:VEVENT
DTSTART;TZID=UTC:20230323T203000
DTEND;TZID=UTC:20230323T203000
DTSTAMP:20260419T125119
CREATED:20221122T095513Z
LAST-MODIFIED:20221122T095513Z
UID:5286-1679603400-1679603400@halbneuntheater.de
SUMMARY:Die Distel: "Deutschland sucht den Supermieter"
DESCRIPTION:Eine schöne Altbauwohnung in Berlin Mitte\, der Traum eines jeden Berliners. Marco Hilpers wohnt in ihr\, sie gehört ihm noch nicht\, aber sein Vater hat sie für ihn gekauft und eines Tages wird er sie erben. Trotzdem ist Marco pleite und braucht dringend Geld. Also beschließt er\, ein Zimmer in der Wohnung zu vermieten und macht einen Besichtigungstermin.  \nGanz Berlin und Umgebung läuft auf\, von Olaf Scholz und Armin Laschet bis zu Jens Spahn und Karl Lauterbach\, prekär beschäftigte Frauen in Existenznot treffen auf eiskalte Topmanager\, die ihre Geliebte preisgünstig zwischenparken möchten. Spekulanten begegnen FDP Karrierist*innen\, verrückte Selfmade-Existenzen und plötzlich reich gewordene Linksautonome machen Marcos gemütliches Heim immer mehr zum Irrenhaus. Marco hat die freie Wahl.  \nAber die Wohnung hat noch mehr Tücken – zum einen Marcos ständigen Mitbewohner Lutz\, der nach einer Party vor drei Jahren einfach dageblieben ist und inzwischen faktisch dort wohnt bis hin zum Vater\, der nicht so glücklich über den Lebenswandel seines Sohnes ist\, wie dieser glaubt… Es ergeben sich die verrücktesten Konstellationen\, Politiker werden privat\, das Private wird politisch. Und über allem das drohende Damoklesschwert – morgen kann schon das schöne WG-Leben vorbei sein\, wenn Papa plötzlich Probleme macht…  \n90 Minuten Turba-Kabarett über den aktuellen Polit-Wahnsinn auf 100 Quadratmetern!
URL:https://halbneuntheater.de/veranstaltung/die-distel-deutschland-sucht-den-supermieter/
CATEGORIES:1. Halbjahr 2023
ATTACH;FMTTYPE=image/jpeg:https://halbneuntheater.de/halbNeunV2/wp-content/uploads/2022/11/Distel.jpg
END:VEVENT
BEGIN:VEVENT
DTSTART;TZID=UTC:20230324T203000
DTEND;TZID=UTC:20230324T203000
DTSTAMP:20260419T125119
CREATED:20221122T095857Z
LAST-MODIFIED:20221122T095857Z
UID:5289-1679689800-1679689800@halbneuntheater.de
SUMMARY:Kabbaratz: "Ich würde alles für mich tun - das Kuschelprogramm"
DESCRIPTION:Wer kennt sie nicht: sie drängeln sich vor\, sie fahren rücksichtslos – egal ob mit dem Rad oder dem Auto; auf die höfliche Frage\, wie es ihnen geht\, nehmen sie sich gerne zwei Stunden unserer Zeit und falls man sie kritisiert\, kann man froh sein\, wenn sie nur beleidigt sind – und nicht handgreiflich werden.\nDarf man Mitmenschen mit ihrem Selfiestick verprügeln oder sollte man Mitleid mit ihnen haben? Während Peter Hoffmann überall Egoisten entdeckt\, fällt Evelyn Wendler an ihm auf: ein Geisterfahrer sieht Hunderte.\nDie anderen denken nur an sich. Nur ich denk an mich. So wird in der Marktwirtschaft an alle gedacht. In seinem 31. Programm geht es Kabbaratz um Gesellschaft und Gemeinschaft. Also das große Wir und das kleine ich. Doch\, das meinen die ernst. Komisch wird es genau deshalb. Versuchen Sie gar nicht erst\, einhändig zu applaudieren. Trösten wir uns damit: Das Ego ist ein Luftballon\, das Leben voller Dornen.
URL:https://halbneuntheater.de/veranstaltung/kabbaratz-ich-wuerde-alles-fuer-mich-tun-das-kuschelprogramm-21/
CATEGORIES:1. Halbjahr 2023
ATTACH;FMTTYPE=image/jpeg:https://halbneuntheater.de/halbNeunV2/wp-content/uploads/2022/11/Kabbaratz_Maerz.jpg
END:VEVENT
BEGIN:VEVENT
DTSTART;TZID=UTC:20230325T203000
DTEND;TZID=UTC:20230325T203000
DTSTAMP:20260419T125119
CREATED:20221122T100325Z
LAST-MODIFIED:20230323T120201Z
UID:5292-1679776200-1679776200@halbneuntheater.de
SUMMARY:Maria Vollmer: "Tantra\, Tupper & Tequila" - ABGESAGT
DESCRIPTION:Leider wurde diese Vorstellung\, wegen Erkrankung der Künstlerin\, abgesagt.\nBei Rückfragen sind wir von Mo.-Fr. von 10:00 Uhr bis 13:00 Uhr unter Tel. 06151 – 23330 zu erreichen.\nTicketrückgabe:\n\nSie haben Ihre Tickets direkt bei uns im halbNeun Theater gekauft?\n\nDann bekommen Sie Ihre Tickets direkt bei uns vor Ort zurückerstattet.\n\n\nSie haben Ihre Tickets über das Internet (unsere Homepage / zTix) bestellt?\n\nDann erhalten Sie Ihr Geld zurück. Wir führen die Prüfung im eigenen Inhouse-zTix-System durch und erstatten den Eintrittspreis. Wir benachrichtigen Sie per E-Mail. Wenn Sie keine Nachricht erhalten haben\, wenden Sie sich bitte direkt an uns. http://halbneuntheater.de/kontakt/\n\n\nSie haben Ihre Tickets bei einer (an das zTix-System angeschlossenen) VVK-Stellen erworben?\n\nDann bekommen Sie dort den vollen Kartenpreis erstattet. Die VVK-Stelle prüft die vorgelegte Ticketnummer im System und sperrt diese gleichzeitig gegen doppelte Auszahlung.\n\n\n\n———————————————— \nWas tut eine Frau\, wenn zwei pubertierende Teenager und ein midlife-kriselnder Ehemann das Geschehen zuhause bestimmen wollen? Sie kümmert sich nicht drum! Sie gönnt sich vielmehr Friseurbesuche\, die so viel kosten wie die Leasingraten fürs Auto. Und sie spürt die im Zimmer der Söhne versteckten Drogen auf – um sie gleich mal auszuprobieren. \nAllerdings wundert sie sich über die Geschenke\, die sie zu ihrem 50. Geburtstag bekommt: ein Tantra – Wochenende in der Eifel\, eine Einladung zu einer Hörgeräte-Party und ein Jochen Schweizer Gutschein für „einmal Auto zertrümmern“ mit einem Partner ihrer Wahl. \nUnd beim Blick in die Zeitung fragt sie sich\, ob man in einer Welt\, die gerade aus den Fugen gerät\, noch unbeschwert genießen\, tanzen und Tequila trinken darf. \nMan darf nicht nur\, man muss\, beschließt sie\, getreu ihrem Motto: Eine Frau sollte nicht darauf warten\, auch etwas vom Kuchen abzubekommen\, sondern den Tortenheber selbst in die Hand nehmen!
URL:https://halbneuntheater.de/veranstaltung/maria-vollmer-tantra-tupper-tequila-5/
CATEGORIES:1. Halbjahr 2023
ATTACH;FMTTYPE=image/jpeg:https://halbneuntheater.de/halbNeunV2/wp-content/uploads/2022/11/Maria_Vollmer.jpg
END:VEVENT
BEGIN:VEVENT
DTSTART;TZID=UTC:20230330T203000
DTEND;TZID=UTC:20230330T203000
DTSTAMP:20260419T125119
CREATED:20221122T100834Z
LAST-MODIFIED:20221122T100834Z
UID:5295-1680208200-1680208200@halbneuntheater.de
SUMMARY:Charly Landzettel: "Aaner gehd noch nei...!"
DESCRIPTION:Wie immer zielt CHARLY LANDZETTEL auf alle Übertreibungen und Sprüche\, die aus dem Darmstädter Rathaus kommen und zerlegt sie akribisch und ironisch in ihre Einzelteile. Kommunalpolitische Kuriositäten persiflieren sind „sein Ding“!\nDer stadtbekannte Kolumnist\, der die Kunstgattung Spott\, Ironie und Übertreibung beherrscht\, kritisiert Ereignisse\, Maßnahmen oder Zustände in Darmstadt allerdings auf seine ganz spezielle Art und natürlich in breitestem\, von ihm so geliebten\, Heinerdialekt.
URL:https://halbneuntheater.de/veranstaltung/charly-landzettel-aaner-gehd-noch-nei/
CATEGORIES:1. Halbjahr 2023
ATTACH;FMTTYPE=image/jpeg:https://halbneuntheater.de/halbNeunV2/wp-content/uploads/2022/11/Charly_Landzettel.jpg
END:VEVENT
BEGIN:VEVENT
DTSTART;TZID=UTC:20230331T203000
DTEND;TZID=UTC:20230331T203000
DTSTAMP:20260419T125119
CREATED:20221121T124829Z
LAST-MODIFIED:20221121T124829Z
UID:5223-1680294600-1680294600@halbneuntheater.de
SUMMARY:Negah Amiri: "Toxisch positiv"
DESCRIPTION:Negah Amiri versteht es\, sich zwischen drei Welten zu bewegen. Die eine ist ihre persische Herkunft\, bei der ein Abitur mit 1\,1 nicht nur ein Versagen sondern auch eine Schande für die Familie ist. Als Kind von Akademikern gibt es nur die Wahl zwischen Medizin oder Jura. „Und bring mir ja keinen Piloten ins Haus“\, denn diese sind ihnen zu Mainstream. \nIhre zweite Welt ist Deutschland\, welche weltoffen und strukturiert ist\, doch auch hier muss man es allen recht machen. Als Frau\, Freundin\, Künstlerin auf Bühnen und im Fernsehen. Als würde das nicht reichen\, wartet die digitale Welt auf Sie in der Filter und Reels zu Freundschaften verhelfen. \nBegleiten sie Negah Amiri auf ihrer Reise durch ihre bunte Welten die sie mit ihrem Humor schmückt. Ein Blick auf diese\, durch ihre Augen zeigen auf\, dass Comedy nicht nur ihre Gegenwart sondern auch ihre Zukunft prägt. \nUnd wie sagen es toxisch positive Menschen immer so schön? Ach komm Süße\, so schlimm ist es doch alles nicht!
URL:https://halbneuntheater.de/veranstaltung/negah-amiri-toxisch-positiv/
CATEGORIES:1. Halbjahr 2023
ATTACH;FMTTYPE=image/jpeg:https://halbneuntheater.de/halbNeunV2/wp-content/uploads/2022/11/Negah_Amiri.jpg
END:VEVENT
END:VCALENDAR