BEGIN:VCALENDAR
VERSION:2.0
PRODID:-//halbNeun-Theater - ECPv6.15.11//NONSGML v1.0//EN
CALSCALE:GREGORIAN
METHOD:PUBLISH
X-ORIGINAL-URL:https://halbneuntheater.de
X-WR-CALDESC:Veranstaltungen für halbNeun-Theater
REFRESH-INTERVAL;VALUE=DURATION:PT1H
X-Robots-Tag:noindex
X-PUBLISHED-TTL:PT1H
BEGIN:VTIMEZONE
TZID:UTC
BEGIN:STANDARD
TZOFFSETFROM:+0000
TZOFFSETTO:+0000
TZNAME:UTC
DTSTART:20220101T000000
END:STANDARD
END:VTIMEZONE
BEGIN:VEVENT
DTSTART;TZID=UTC:20230203T203000
DTEND;TZID=UTC:20230203T203000
DTSTAMP:20260419T142258
CREATED:20221122T080614Z
LAST-MODIFIED:20230202T103442Z
UID:5226-1675456200-1675456200@halbneuntheater.de
SUMMARY:Aquabella: "Winterwunder Weltmusik" - ABGESAGT
DESCRIPTION:Leider muss diese Vorstellung abgesagt werden.\nBei Rückfragen sind wir von Mo.-Fr. von 10:00 Uhr bis 13:00 Uhr unter Tel. 06151 – 23330 zu erreichen.\nTicketrückgabe:\n\nSie haben Ihre Tickets direkt bei uns im halbNeun Theater gekauft?\n\nDann bekommen Sie Ihre Tickets direkt bei uns vor Ort zurückerstattet.\n\n\nSie haben Ihre Tickets über das Internet (unsere Homepage / zTix) bestellt?\n\nDann erhalten Sie Ihr Geld zurück. Wir führen die Prüfung im eigenen Inhouse-zTix-System durch und erstatten den Eintrittspreis. Wir benachrichtigen Sie per E-Mail (aktuell wegen Systemumstellung unseres Ticketanbieters nicht möglich. Ihnen wird der volle Ticketpreis jedoch zurückerstattet). Wenn Sie keine Nachricht erhalten haben\, wenden Sie sich bitte direkt an uns. http://halbneuntheater.de/kontakt/\n\n\nSie haben Ihre Tickets bei einer (an das zTix-System angeschlossenen) VVK-Stellen erworben?\n\nDann bekommen Sie dort den vollen Kartenpreis erstattet. Die VVK-Stelle prüft die vorgelegte Ticketnummer im System und sperrt diese gleichzeitig gegen doppelte Auszahlung.\n\n\n\n———————————————— \nIn ihrem WinterWunderWeltmusik Programm präsentieren AQUABELLA ihre Lieblings-Winterlieder und die in viele Sprachen übersetzte Weihnachtsgeschichte.\nSie singen von Dornenbüschen\, deren blühende Rosen mitten im Winter ein Wunder ankündigen oder einem majestätischen Pferd\, das sich in Lettland durch den Schnee kämpft und seinen Reiter sicher durch größte Gefahren führt.\nSie erwecken kraftvoll einen georgischen Männerchor zum Leben\, erschaffen spielerisch geheimnisvolle Welten nur mit Hilfe ihrer einzigartigen Stimmbänder! Anmutige Choreografien\, Perkussionklänge und effektvoll eingesetzte Body-Perkussion begleiten die immer in der Originalsprache gesungenen Lieder aus sechzehn verschiedenen Ländern.\nDie vier Sängerinnen lassen Momente voller Schönheit und Spiritualität entstehen\, verblüffen aber auch mit Kostproben von Großmutters bestem Rezept für Weihnachtsplätzchen und debattieren die überaus wichtige Entscheidung: Kugel\, Apfel oder Stechpalmenzweig an den Weihnachtsbaum?\nAll diese Stücke sind Aquabellas Lieblings-Winterlieder und eine Hommage an die alten Traditionen.
URL:https://halbneuntheater.de/veranstaltung/aquabella-winterwunder-weltmusik/
CATEGORIES:1. Halbjahr 2023
ATTACH;FMTTYPE=image/jpeg:https://halbneuntheater.de/halbNeunV2/wp-content/uploads/2022/11/Aquabella.jpg
END:VEVENT
BEGIN:VEVENT
DTSTART;TZID=UTC:20230204T203000
DTEND;TZID=UTC:20230204T203000
DTSTAMP:20260419T142258
CREATED:20221122T082055Z
LAST-MODIFIED:20221122T083022Z
UID:5229-1675542600-1675542600@halbneuntheater.de
SUMMARY:Christine Teichmann: "Links rechts Menschenrecht"
DESCRIPTION:Christine Teichmann ist als Kabarettistin\, Slam Poetin\, Artistin und performende Schriftstellerin von zahlreichen Bühnen im deutschsprachigen Raum bekannt. Ihre Texte sind gesellschaftskritisch\, politisch aktuell und voll schwarzem Humor. In ihrem preisgekrönten Programm „links rechts Menschenrecht“ lotet Christine Teichmann die Untiefen unserer Überzeugungen aus und entlarvt gnadenlos\, aber mit\nviel Humor und Augenzwinkern die eigenen Lebenslügen.  \nDas Gasthaus zum Menschenrecht hat eigentlich ein fixes Menü mit 30 Artikeln auf der Charta\, aber die Wirtin ist schon gewöhnt\, dass die Gäste nicht die ganze Speisenfolge mögen und sich lieber die Rosinen rauspicken. Eine Runde Wahlrecht für alle wird schon bestellt\, aber kann man da die Stimmen der Rechten nicht weglassen und dafür mehr Gemeinwohl dazu tun? Und natürlich will niemand Sklaverei\, aber wenn die Oma dringend Pflege braucht\, wäre so eine kleine Portion Leibeigenschaft schon noch eine Bestellung wert. Und hätten Sie einmal Tyrannenmord mit Schlag\, also Anschlag? \nUnter der Regie von Alexander Mitterer bewegt sich der Abend an der Grenze zwischen Ein-Personen-Theaterstück und Kabarett und lädt das Publikum ein\, auch an der eigenen Fassade zu kratzen. Frei nach Franka Rame: „Es öffnet sich nicht nur der Mund beim Lachen\, sondern auch das Gehirn!“
URL:https://halbneuntheater.de/veranstaltung/christine-teichmann-links-rechts-menschenrecht/
CATEGORIES:1. Halbjahr 2023
ATTACH;FMTTYPE=image/jpeg:https://halbneuntheater.de/halbNeunV2/wp-content/uploads/2022/11/Christine_Teichmann.jpg
END:VEVENT
BEGIN:VEVENT
DTSTART;TZID=UTC:20230205T150000
DTEND;TZID=UTC:20230205T150000
DTSTAMP:20260419T142258
CREATED:20221122T082927Z
LAST-MODIFIED:20221122T082927Z
UID:5232-1675609200-1675609200@halbneuntheater.de
SUMMARY:Ali Büttners Korbtheater: "Der kleine Rabe Socke"
DESCRIPTION:Für Spielkinder\, tapfere Ritter und edle Burgfräuleins ab 3 Jahren \nDer kleine Rabe Socke spielt am liebsten den ganzen Tag. Und weil er sich oft aufplustert und seinen Schnabel weit aufreißt\, spielt er gerne König. Als er aber vor seiner Burg steht\, zieht’s ihm fast die Socke aus! Denn Wolfi hat sich darin breit gemacht. Au Backe! Da ist Feuer im Gemäuer! \nKeine Frage\, dass Socke die Burg zurück haben will. Er streitet sich mit Wolfi und fühlt ihm auf den Milchzahn. Doch am Ende muss er ganz schön Federn lassen…. \nWas nun? Socke fragt seine Freunde um Rat. Er holt sich hasenschlaue Hilfe von Löffel und bärenstarke Boxtricks von Eddi. Dann ist er bereit\, die Burg zurück zu erobern. Er will kämpfen\, bis die Mauern beben. Aber\, ob das die richtige Lösung ist? \nEine rabenstarke Geschichte\, die zeigt\, dass man nicht unbedingt mit dem Kopf durch die Wand gehen muss\, um an sein Ziel zu kommen.
URL:https://halbneuntheater.de/veranstaltung/ali-buettners-korbtheater-der-kleine-rabe-socke/
CATEGORIES:1. Halbjahr 2023
ATTACH;FMTTYPE=image/jpeg:https://halbneuntheater.de/halbNeunV2/wp-content/uploads/2022/11/Korbtheater.jpg
END:VEVENT
BEGIN:VEVENT
DTSTART;TZID=UTC:20230210T203000
DTEND;TZID=UTC:20230210T203000
DTSTAMP:20260419T142258
CREATED:20221122T083550Z
LAST-MODIFIED:20221122T083550Z
UID:5236-1676061000-1676061000@halbneuntheater.de
SUMMARY:Jürgen Becker: "Die Ursache liegt in der Zukunft"
DESCRIPTION:Wir Menschen haben gar nichts gegen die Zukunft. Die Ungewissheit würde uns gar nichts ausmachen wenn wir nur wüssten\, dass es gut ausgeht. Wer weiß\, wie heiß der nächste Sommer wird? Ob wir uns durch die Kriegsgefahr Abends vor dem Fernseher noch Lothar Wieler und Karl Lauterbach zurück wünschen? Ob wir nach dem Tod in den Himmel kommen? Wie hoch dort die Nebenkostenabrechnung sein wird?  \nJürgen Becker weiß es leider auch nicht. Aber er nimmt uns an die Hand\, zeigt\, dass früher auch nicht alles Gold war und dass die Zukunft schöner wird\, wenn wir schon heute darüber lachen. Am Ende geht man nach Hause denkt: Da geht noch was!
URL:https://halbneuntheater.de/veranstaltung/juergen-becker-die-ursache-liegt-in-der-zukunft-2/
CATEGORIES:1. Halbjahr 2023
ATTACH;FMTTYPE=image/jpeg:https://halbneuntheater.de/halbNeunV2/wp-content/uploads/2022/11/Juergen_Becker.jpg
END:VEVENT
BEGIN:VEVENT
DTSTART;TZID=UTC:20230211T203000
DTEND;TZID=UTC:20230211T203000
DTSTAMP:20260419T142258
CREATED:20221122T084004Z
LAST-MODIFIED:20221122T084004Z
UID:5239-1676147400-1676147400@halbneuntheater.de
SUMMARY:Uli Masuth: " Lügen und andere Wahrheiten"
DESCRIPTION:Der wahrheitsliebende Mensch lügt. Und das nicht zu knapp. Je nachdem\, welchem Experten man glauben darf\, 25-200 Mal am Tag. Frei nach Präsident Gerald Ford könnte man also sagen: Die Lüge ist der Klebstoff\, der unsere Gesellschaft zusammenhält. \nUnd das nicht nur im privaten\, nein\, auch im öffentlichen Leben. Selbst Pressemeldungen kommen nicht ganz ohne aus. Drum heißt es ja auch im Volksmund: Lügen\, wie gedruckt. \nWeil es aber immer weniger Wahrheit gibt\, gibt es auch immer mehr Menschen\, die sich auf der Suche nach ihr verirren. Und zwar ins Internet\, wo sie – wie meistens – fündig werden. Denn tatsächlich wimmelt es da von Experten\, die im Besitz der Wahrheit sind\, sie also keinesfalls nur kurz gepachtet haben. Kein Wunder also\, dass für Otto Normalverbraucher kaum was davon übrig bleibt. \nWas tun? Soll uns die Wahrheit gestohlen bleiben? Oder sollten wir uns etwa mit der halben begnügen\, am besten scheibchenweise serviert? Der Vorteil dabei: so liegt sie weniger schwer im Magen und stößt nicht ganz so sauer auf. Der Nachteil: was für den einen noch die halbe Wahrheit ist\, ist für den andern schon die ganze Lüge. Was aber hätten wir davon\, wenn immer alle die Wahrheit sagten? Den Himmel oder die Hölle auf Erden?
URL:https://halbneuntheater.de/veranstaltung/uli-masuth-luegen-und-andere-wahrheiten/
CATEGORIES:1. Halbjahr 2023
ATTACH;FMTTYPE=image/jpeg:https://halbneuntheater.de/halbNeunV2/wp-content/uploads/2022/11/Uli_Masuth.jpg
END:VEVENT
BEGIN:VEVENT
DTSTART;TZID=UTC:20230212T150000
DTEND;TZID=UTC:20230212T150000
DTSTAMP:20260419T142258
CREATED:20221122T084959Z
LAST-MODIFIED:20221122T084959Z
UID:5242-1676214000-1676214000@halbneuntheater.de
SUMMARY:Kindertheater TrollToll: "Rotkäppchen und der Wolf"
DESCRIPTION:Für Kinder ab 3 Jahren. \nDas Märchen „Rotkäppchen“ ist eine der bekanntesten Erzählungen Europas. Im Laufe der Zeit hat sich die Geschichte in vielerlei Hinsicht gewandelt\, sie wurde unterschiedlich interpretiert und legte immer wieder neue moralische Aussagen nahe.  \nIn der TrollToll Adaption ist Rotkäppchen ein kleines\, fröhliches\, aufgewecktes Mädchen\, das sich nicht von der allgemeinen Angst vor dem Wolf anstecken lässt.\nDas trifft sich gut\, denn unser Wolf denkt nicht daran in die Fußstapfen seines Vaters\, seines Großvaters und seines Urgroßvaters zu steigen und die Rolle des Bösewichts zu spielen.  \nEines Tages\, als Rotkäppchen im Wald auf dem Weg zur Großmutter ist\, begegnet es dem Wolf. Die Beiden mögen sich auf Anhieb und freunden sich miteinander an\, doch Jäger Kali\, der Hüter der Märchen\, ist damit überhaupt nicht einverstanden.\nEr droht dem Wolf ihn aus dem Märchenland zu verbannen\, wenn er aus der Reihe tanzt und nicht macht was im Märchenbuch geschrieben steht…! \nMit vielen Mitmachmöglichkeiten schon für die ganz Kleinen geeignet
URL:https://halbneuntheater.de/veranstaltung/kindertheater-trolltoll-rotkaeppchen-und-der-wolf/
CATEGORIES:1. Halbjahr 2023
ATTACH;FMTTYPE=image/jpeg:https://halbneuntheater.de/halbNeunV2/wp-content/uploads/2022/11/Troll_Toll.jpg
END:VEVENT
BEGIN:VEVENT
DTSTART;TZID=UTC:20230217T203000
DTEND;TZID=UTC:20230217T203000
DTSTAMP:20260419T142258
CREATED:20221122T085238Z
LAST-MODIFIED:20221122T085238Z
UID:5245-1676665800-1676665800@halbneuntheater.de
SUMMARY:Erste Allgemeine Babenhäuser Pfarrer(!)-Kabarett: "Mach Kain Stress"
DESCRIPTION:Der Trainer von Bayern München bekommt nach dem Ausscheiden seines Vereins aus der Champions-League 450 Morddrohungen bei Instagram\, und „nach jedem Spiel eigentlich – egal ob wir gewinnen oder verlieren.“ Wenn er eine Dreierkette ankündigt bekommt er mehr als bei einer Viererkette. Rettungskräfte und Feuerwehrleute bekommen schon mal Prügel bei einem Einsatz und Bürgermeister werden aus dem Amt gemobbt\, wenn sie es wagen irgendwas zu unternehmen\, was einer Handvoll Wutbürgern gegen den Strich geht. Wo leben wir eigentlich? In Wuthausen? Choleristan? Kann sich jetzt jeder Simpel zum Westentaschendiktator upgraden\, nur weil er ein Smartphone und 35 Follower hat? Was ist mit Respekt? Und Anstand? Im Funkloch verschwunden? \nIn ihrem 15. Programm gehen die beiden grauhaarigen Pfarrerkabarettisten auf die Suche nach der verlorenen Vernunft. Bestimmt werden sie fündig bei ihrem intelligenten\, geschmackvollen und aufs Äußerste zahlungsbereiten Publikum\, das ihnen nun schon seit über 25 Jahren „in Hessen und den angrenzenden Kontinenten“ die Treue hält. Kein Wunder\, verkünden Hans-Joachim Greifenstein und Clajo Herrmann unverdrossen ihre Kernbotschaft\, die da lautet: „Eigentlich ist die Welt trotz allem ganz gut. Die Leute müssen es nur merken. Und mit uns fest dran glauben.“
URL:https://halbneuntheater.de/veranstaltung/erste-allgemeine-babenhaeuser-pfarrer-kabarett-mach-kain-stress/
CATEGORIES:1. Halbjahr 2023
ATTACH;FMTTYPE=image/jpeg:https://halbneuntheater.de/halbNeunV2/wp-content/uploads/2022/04/22_Pfarrer.jpg
END:VEVENT
BEGIN:VEVENT
DTSTART;TZID=UTC:20230218T203000
DTEND;TZID=UTC:20230218T203000
DTSTAMP:20260419T142258
CREATED:20221122T085817Z
LAST-MODIFIED:20221122T085817Z
UID:5248-1676752200-1676752200@halbneuntheater.de
SUMMARY:Frank Lüdecke: "Das Falsche muss nicht immer richtig sein"
DESCRIPTION:Frank Lüdecke (Deutscher Kleinkunstpreis\, Deutscher Kabarettpreis)\, einer der führenden politischen Kabarettisten in Deutschland (Scheibenwischer\, Satiregipfel\, Die Anstalt) ist nun seit 30 Jahren auf Tournee. Seit 2019 ist er auch noch Künstlerischer Leiter des Kabarett Theaters Die Stachelschweine! Klüger ist er immer noch nicht. Geht die Welt unter – oder nur die Demokratie? Corona hat einiges verändert. Und wenn das Falsche nicht immer richtig ist – ist das Richtige dann immer falsch? \nIn jedem Fall entstehen neue Ideen für unsere Gesellschaft. Wie wäre es\, Politiker einfach auszulosen? Aber was\, wenn das Los nicht auf mich fällt\, sondern auf meinen Nachbarn? Grundeinkommen wäre auch gut. Dann hätten wir noch mehr Videoinstallationen und Modeblogger. Aber wollen wir das? Und mehr Toleranz wäre gut. Wenn nur die Leute nicht so dusselig wären! Da hilft vor allem mehr Bildung. Aber von wem werden wir die bekommen – von Alexa oder von Anja Karliczek? Und jetzt fragen Sie bitte nicht\, wer das ist! \nRespektlos und feinsinnig\, witzig und böse seziert Frank Lüdecke unsere wankenden Gewissheiten. Ein Parforceritt durch die Debatten unserer verrückten Zeit. Eine Lösung hat er auch: Berlin! Warum\, erfahren Sie erst ganz am Schluss. (Mit Musik.) Lüdecke war jahrelang Hauptautor und Mitspieler für Dieter Hallervorden und ist aktuell seit August 2019 neuer Betreiber und Künstlerischer Leiter der legendären Berliner „Stachelschweine“\, dem ältesten Kabarett Berlins. Er ist Kolumnist des KICKER und schreibt seit 2013 eine wöchentliche Fußballglosse im Berliner Tagesspiegel („Auslaufen mit Lüdecke“).\n\n„In seinem neuen Programm „Das Falsche muss nicht immer richtig sein!“ zeigte sich der Berliner Polit-Kabarettist Frank Lüdecke im Kieler Metro Kino einmal mehr als aberwitziger Analytiker und Querdenker\, der auch mit spöttischen Songs auf der Akustikgitarre zu begeistern weiß. (…) Das Lüdeckesche Spektrum ist breit\, vom Kalauer über zitatgestützte und genussvoll satirisch ausgewalzte Thesen bis zu umgetexteten Coversongs über Politiker\, die zukünftige Weltlage oder Berlin\, alles serviert mit spitzbübischem Lächeln und erstklassig kabarettistisch aufbereitet.“\nKieler Nachrichten\, 11.2. 2020
URL:https://halbneuntheater.de/veranstaltung/frank-luedecke-das-falsche-muss-nicht-immer-richtig-sein/
CATEGORIES:1. Halbjahr 2023
ATTACH;FMTTYPE=image/jpeg:https://halbneuntheater.de/halbNeunV2/wp-content/uploads/2022/11/Frank-Luedecke.jpg
END:VEVENT
BEGIN:VEVENT
DTSTART;TZID=UTC:20230224T203000
DTEND;TZID=UTC:20230224T203000
DTSTAMP:20260419T142258
CREATED:20221122T090321Z
LAST-MODIFIED:20221122T090321Z
UID:5251-1677270600-1677270600@halbneuntheater.de
SUMMARY:Kabbaratz: "Wo wir hinkamen\, war es voll! - Ansichten einer (geburten)starken Generation"
DESCRIPTION:Wenn man bei dem Ding mit der Wählscheibe das Kabel aus der Wand riss\, hatte man ein Mobiltelephon – halt ein kaputtes. Das Navigationsgerät hieß Beifahrer und im sozialen Netzwerk der Kneipe nebenan traf man regelmäßig Leute\, die einem Sachen erzählten\, die man nicht hören wollte. Für die Legosteine brauchte man keine Bedienungsanleitung\, sondern Phantasie\, das Touchscreen in der Schule wurde als Kreidetafel gewischt und die Eltern konnten nicht wissen\, wo die Kinder gerade sind. Trotzdem sind in solchen Zeiten Menschen großgeworden: die Kinder des Wirtschaftswunders. Mehr waren nie. Man nennt sie die geburtenstarken Jahrgänge. Niemand hat auf sie gewartet: es gab ja genug davon. Also hat man sich nicht groß angestellt\, sondern bescheiden angestellt: hinten. Viele von Ihnen können heute noch analog Grillen\, offline Biertrinken und so Autofahren\, als hätten sie kein zweites Leben. \nEvelyn Wendler und Peter Hoffmann gehören zu den geburtenstarken Jahrgängen. Sie richten ihren Blick auch auf heute. Mit Maßstäben\, die vielleicht aus der Zeit gefallen sind. Erwarten Sie nichts Besonderes\, denn Wunschkinder gab es dank der Pille erst ab den sechziger Jahren. Die beiden bemühen sich lediglich um eine reife Leistung. \n„Kabbaratz hatte zur Freude des Publikums ganz und gar keine Lust auf einen verklärenden Blick auf das Einst.\nVielfach leise Töne\, oft spitze Worte und der fein gesetzte\, akzentuierte Hall zwischen den Worten haben gezeigt\, dass hier zwei auf der Bühne stehen\, die ihr Handwerk verstehen. Ein wunderbares Programm.
URL:https://halbneuntheater.de/veranstaltung/kabbaratz-wo-wir-hinkamen-war-es-voll-ansichten-einer-geburtenstarken-generation-6/
CATEGORIES:1. Halbjahr 2023
ATTACH;FMTTYPE=image/jpeg:https://halbneuntheater.de/halbNeunV2/wp-content/uploads/2022/11/Kabbaratz_Februar.jpg
END:VEVENT
BEGIN:VEVENT
DTSTART;TZID=UTC:20230225T203000
DTEND;TZID=UTC:20230225T203000
DTSTAMP:20260419T142258
CREATED:20221122T090730Z
LAST-MODIFIED:20221122T090730Z
UID:5254-1677357000-1677357000@halbneuntheater.de
SUMMARY:Remember Cat Stevens: "Die Cat-Stevens-Story"
DESCRIPTION:2014 wurde Yusuf\, welcher sich früher CAT STEVENS nannte\, in die Rock’n’Roll Hall of Fame aufgenommen. Es war die überfällige Anerkennung eines Musikers\, der den Sound der Siebziger mit seinem einschmeichelnden Folkpop nachhaltig mitgeprägt hat: ein außergewöhnlicher Komponist\, Poet und Philosoph mit einer charakteristischen Stimme und erfindungsreichen Gitarrentechnik.\nSeine Tiefgründigkeit\, Song-Vielfalt und die behandelten Themen sichern Cat Stevens einen wichtigen Platz in der Rock-Geschichte. \n„REMEMBER CAT STEVENS“ berichtet von Steven Demetre Georgiou\, der sich als Künstler „Cat Stevens“ und als Moslem „Yusuf Islam“ nannte. „Wir spielen Titel seiner ersten Plattenveröffentlichungen der Sixties und alle Hits aus der kreativsten Phase Anfang der 70er Jahre\, in denen er mit den LPs „Tea for the Tillerman“ und „Teaser and the Firecat“ weltweit erfolgreich war.\nAuch einige Titel seiner jüngeren Veröffentlichungen werden Sie hören – und Vieles über einen durchaus widersprüchlichen Menschen\, genialen Musiker und Komponisten erfahren -eben die CAT-STEVENS-STORY“- versprechen die Musiker der Band.
URL:https://halbneuntheater.de/veranstaltung/remember-cat-stevens-die-cat-stevens-story-4/
CATEGORIES:1. Halbjahr 2023
ATTACH;FMTTYPE=image/jpeg:https://halbneuntheater.de/halbNeunV2/wp-content/uploads/2022/11/Remember_Cat_Stevens.jpg
END:VEVENT
BEGIN:VEVENT
DTSTART;TZID=UTC:20230226T150000
DTEND;TZID=UTC:20230226T150000
DTSTAMP:20260419T142258
CREATED:20221122T091325Z
LAST-MODIFIED:20221122T091325Z
UID:5257-1677423600-1677423600@halbneuntheater.de
SUMMARY:Kinderzaubershow Zauberer Dixon: "Alles Hokus-Pokus"
DESCRIPTION:„… der kann doch gar nicht richtig zaubern!“ haben schon so manche Kinder zu Beginn einer DIXON-Kinder-Zauber-Mitmach-Show gerufen. Schnell verebbt der Protest … denn zumeist sieht‘s halt doch so aus\, als wenn DIXON richtig zaubern könnte. Obwohl er den Kindern sogar anvertraut\, dass man Zaubern lernen kann\, mag plötzlich keiner wirklich daran glauben – wenn bunte Tücher blitzschnell ihre Farben wechseln\, Flaschen sich in viel zu engen Röhren verdrehen\, ein Wasserkrug niemals leer wird und wenn ein Bonbon aus einem Topf hervorgezaubert wird\, den DIXON schon vor hundert Jahren in Ägypten gefunden hat.\nDIXON beherrscht die gesamte Bandbreite guter\, niveauvoller\, pädagogisch wertvoller Kinderunterhaltung. Kein billiger Klamauk\, auch wenn es manchmal recht lautstark und turbulent zugeht. Aber danach Passagen im Flüsterton … auch das muss sein.  \nAchtung! Gut möglich\, dass Ihr Kind nach dem Besuch von DIXON nur noch eines werden will: Zauberer. Mit Hokus-Pokus kommt man eben gut durch die Welt.
URL:https://halbneuntheater.de/veranstaltung/kinderzaubershow-zauberer-dixon-alles-hokus-pokus-2/
CATEGORIES:1. Halbjahr 2023
ATTACH;FMTTYPE=image/jpeg:https://halbneuntheater.de/halbNeunV2/wp-content/uploads/2022/11/Dixon_Kinder.jpg
END:VEVENT
BEGIN:VEVENT
DTSTART;TZID=UTC:20230226T193000
DTEND;TZID=UTC:20230226T193000
DTSTAMP:20260419T142258
CREATED:20221122T091605Z
LAST-MODIFIED:20221122T091605Z
UID:5258-1677439800-1677439800@halbneuntheater.de
SUMMARY:Dixon & Heidi: "Zauberei und Entertainment"
DESCRIPTION:DIXON & HEIDI sind seit über 30 Jahren Profis auf dem Sektor Zauberei und Entertainment. Sie brauchen keine großen Kisten und Kästen\, um die Zuschauer total zu verblüffen\, … es genügen wenige\, ganz alltägliche Gegenstände. Es ist die schwierige\, hohe Schule der Magie\, die überwiegend auf Fingerfertigkeit\, Ablenkung\, Geschicklichkeit und Gedächtniskunst beruht. So entstehen die modernen Wunder\, direkt unter den Augen der Zuschauer.\nUnzählige Male haben DIXON & HEIDI auf den großen Luxus-Linern die Erde umrundet. Sie sind auf er ganzen Welt zu Hause – nur zu Hause in Darmstadt sind sie fast nie. Umso mehr freuen wir uns\, dass sie wieder einmal im halbNeun Theater auftreten.
URL:https://halbneuntheater.de/veranstaltung/dixon-heidi-zauberei-und-entertainment-3/
CATEGORIES:1. Halbjahr 2023
ATTACH;FMTTYPE=image/jpeg:https://halbneuntheater.de/halbNeunV2/wp-content/uploads/2022/11/Dixon_Abend.jpg
END:VEVENT
END:VCALENDAR