BEGIN:VCALENDAR
VERSION:2.0
PRODID:-//halbNeun-Theater - ECPv6.15.11//NONSGML v1.0//EN
CALSCALE:GREGORIAN
METHOD:PUBLISH
X-WR-CALNAME:halbNeun-Theater
X-ORIGINAL-URL:https://halbneuntheater.de
X-WR-CALDESC:Veranstaltungen für halbNeun-Theater
REFRESH-INTERVAL;VALUE=DURATION:PT1H
X-Robots-Tag:noindex
X-PUBLISHED-TTL:PT1H
BEGIN:VTIMEZONE
TZID:UTC
BEGIN:STANDARD
TZOFFSETFROM:+0000
TZOFFSETTO:+0000
TZNAME:UTC
DTSTART:20220101T000000
END:STANDARD
END:VTIMEZONE
BEGIN:VEVENT
DTSTART;TZID=UTC:20230112T203000
DTEND;TZID=UTC:20230112T203000
DTSTAMP:20260419T132737
CREATED:20220112T132605Z
LAST-MODIFIED:20230110T104042Z
UID:4835-1673555400-1673555400@halbneuntheater.de
SUMMARY:Volkmar Staub & das Badische Sympathie Orchester: "Der JahresROCKblick" - ABGESAGT
DESCRIPTION:Leider wurde diese Vorstellung abgesagt.\nBei Rückfragen sind wir von Mo.-Fr. von 10:00 Uhr bis 13:00 Uhr unter Tel. 06151 – 23330 zu erreichen.\nTicketrückgabe:\n\nSie haben Ihre Tickets direkt bei uns im halbNeun Theater gekauft?\n\nDann bekommen Sie Ihre Tickets direkt bei uns vor Ort zurückerstattet.\n\n\nSie haben Ihre Tickets über das Internet (unsere Homepage / zTix) bestellt?\n\nDann erhalten Sie Ihr Geld zurück. Wir führen die Prüfung im eigenen Inhouse-zTix-System durch und erstatten den Eintrittspreis. Wir benachrichtigen Sie per E-Mail. Wenn Sie keine Nachricht erhalten haben\, wenden Sie sich bitte direkt an uns. http://halbneuntheater.de/kontakt/\n\n\nSie haben Ihre Tickets bei einer (an das zTix-System angeschlossenen) VVK-Stellen erworben?\n\nDann bekommen Sie dort den vollen Kartenpreis erstattet. Die VVK-Stelle prüft die vorgelegte Ticketnummer im System und sperrt diese gleichzeitig gegen doppelte Auszahlung.\n\n\n\n———————————————— \nVolkmar Staub und das BADISCHE SYMPATHIE ORCHESTER \nDer satirische Jahresrückblick mit fetziger musikalischer Unterstützung. Gags & Tratsch & Rock´n Roll. Der Abend bietet eine JAHRES-SHOW mit Satiren\, Szenen\, Gedichten und rockigen Songs zum Jahr. Kabarett und bluesige Unterhaltung sind kein Gegensatz. Mit staubtrockenem Verstand und heißer Mucke wird das Jahr gerockt. Wir wissen: Durch Deutschland muss ein ROCK gehen! \nVolkmar Staub\, der Kabarettist und Wortspielphilosoph aus dem Wiesental\, war 15 Jahre mit Florian Schroeder und dem satirischen Jahresrückblick „Zugabe“ unterwegs. Ab Dezember 2019 schaut Staub in seinen Jahresrückspiegel mit dem kongenialen BADISCHEN SYMPATHIE ORCHESTER (mit Gerd Maier\, man nennt ihn auch den „Willi Dixon vom vorderen Wiesental“ und Michael Summ\, Komponist und Multiinstrumentalist\, u.a. Keyboarder bei der Freiburger Rockband Soundedge) \nVolkmar Staub mit Band – das ist KABARETT n´ROLL! \nDer ultimative JAHRESROCKBLICK – Weitest bunt und bundesweit
URL:https://halbneuntheater.de/veranstaltung/volkmar-staub-das-badische-sympathie-orchester-der-jahresrockblick-2/
CATEGORIES:1. Halbjahr 2023
ATTACH;FMTTYPE=image/jpeg:https://halbneuntheater.de/halbNeunV2/wp-content/uploads/2021/11/220122_Volkmar_Staub.jpg
END:VEVENT
BEGIN:VEVENT
DTSTART;TZID=UTC:20230113T203000
DTEND;TZID=UTC:20230113T203000
DTSTAMP:20260419T132737
CREATED:20221121T112344Z
LAST-MODIFIED:20221121T112344Z
UID:5137-1673641800-1673641800@halbneuntheater.de
SUMMARY:Peter Vollmer & Gernot Voltz: "Die Knaller des Jahres 2022"
DESCRIPTION:Was für ein Jahr! Gerhard Schröder bekommt von Russland eine eigene Pipeline für seine Gasheizung. Die Lufthansa wird grün und setzt ihre Flugzeuge nur noch als Fernbusse ein. Und die Gewinne der Warburg-Bank durch kriminelle Cum-Ex-Geschäfte sind so groß\, dass sie kaum in die Erinnerungslücke von Olaf Scholz passen!  \nDie Kabarettisten Peter Vollmer und Gernot Voltz als Herr Heuser vom Finanzamt halten Rückschau und betrachten satirisch -lustvoll Ereignisse und Gestalten dieses Jahres.  Ein smarter Pointenakrobat und ein subversiver Millimeterfetischist – eine ebenso unterhaltsame wie explosive Mischung. \nDarüber hinaus beweist das Duo in seinen Songs auch musikalisches Können und findet ganz eigene Antworten auf Fragen wie: war Darth Vader der Erfinder der Maskenpflicht\, darf ein selbstfahrendes Auto einen Mähroboter heiraten und wann gibt es das erste Dschungelcamp für Diktatoren? \nDies war kein Jahr für schwache Nerven!
URL:https://halbneuntheater.de/veranstaltung/peter-vollmer-gernot-voltz-die-knaller-des-jahres-2022/
CATEGORIES:1. Halbjahr 2023
ATTACH;FMTTYPE=image/jpeg:https://halbneuntheater.de/halbNeunV2/wp-content/uploads/2022/11/Jahresrueckblick_Voltz_Vollmer.jpg
END:VEVENT
BEGIN:VEVENT
DTSTART;TZID=UTC:20230114T203000
DTEND;TZID=UTC:20230114T203000
DTSTAMP:20260419T132737
CREATED:20221121T112921Z
LAST-MODIFIED:20221121T112921Z
UID:5199-1673728200-1673728200@halbneuntheater.de
SUMMARY:An Cat Dubh: "Celtic Folk Rock aus Darmstadt"
DESCRIPTION:Unter dem musikalischen Banner Celtic Folk Rock bringt das Darmstädter Quintett An Cat Dubh (gälisch: die schwarze Katze) ein vor Spielfreude sprühendes Programm auf die Bühne. Dabei interpretieren sie Klassiker aus der traditionellen irischen und schottischen Volksmusik neu\, präsentieren aber auch zahlreiche A Capella-Stücke und Eigenkompositionen. Seit ihrer Gründung 1992 spielten sie insgesamt etwa 500 Live-Konzerte im In- und Ausland und veröffentlichten acht Tonträger. \nIhre musikalische Qualität entsteht auch durch kreative Offenheit und den Blick über die Genregrenzen\, gleichzeitig bestimmt Vielfalt das Repertoire der passionierten Celtic Folk Rocker. Während im einen Moment die Dramatik der Erzählungen über Sehnsucht\, Krieg und Frieden durch die Musik peitscht\, widmen sich An Cat Dubh in den nächsten Takten den alltäglichen Freuden wie feuchtfröhlichen Trinkgelagen im Dunst von Whisky und Bier. \nEin wesentliches Merkmal der Band ist die raue und kraftvolle Stimme von Sänger Daniel Zimbrich\, die bei Shantys maritime Wildheit versprühen und im nächsten Moment eine gefühlvolle Ballade präsentieren kann. Bei ihrer Bühnenshow ist dabei neben aller Professionalität viel Platz für Humor und so wird mit schelmischem Augenzwinkern und keckem Spruch auf den Lippen das Publikum gerne animiert. \nMit ihrem vielseitigen Celtic Folk Rock und den unschlagbaren Entertainerfähigkeiten auf der Bühne machen An Cat Dubh ihre Konzerte zum Erlebnis\, bei dem die Kilts ekstatisch zu rockigen Riffs schwingen oder sich sanft zu keltischen Balladen wiegen!
URL:https://halbneuntheater.de/veranstaltung/an-cat-dubh-celtic-folk-rock-aus-darmstadt-5/
CATEGORIES:1. Halbjahr 2023
ATTACH;FMTTYPE=image/jpeg:https://halbneuntheater.de/halbNeunV2/wp-content/uploads/2022/11/An_Cat_Dubh.jpg
END:VEVENT
BEGIN:VEVENT
DTSTART;TZID=UTC:20230120T203000
DTEND;TZID=UTC:20230120T203000
DTSTAMP:20260419T132737
CREATED:20221121T113651Z
LAST-MODIFIED:20221122T081012Z
UID:5202-1674246600-1674246600@halbneuntheater.de
SUMMARY:Ingo und Pete: "Songs aus dem Leben"
DESCRIPTION:Deutsche Texte\, verpackt in Latin\,Soul und Jazzige Klänge. Zwei Gitarren\, mal im Gleichklang\, mal im Wechselspiel. INGO UND PETE. Das Duo\ninterpretiert Geschichten aus dem Leben\, immer voll Gefühl und mit einem Augenzwinkern.\nDa ist zum einen der begnadete Sänger und Gitarrist INGO MÜTZEL. Mit seiner Band Cuba Vista hat er weltweit über 2000 Konzerte gespielt. Und da ist PETER SCHNEIDER. Er war Gitarrist unter anderem bei Ike Turner und Westernhagen und leitet seit 20 Jahren die Band „The Stimulators“.\nKennengelernt haben sich die beiden auf den Kanarischen Inseln\, 13 Songs geschrieben und von Zeiten vor der Pandemie geträumt. Gib mir das Gefühl\, wie es früher einmal war… dann ist nichts verloren. Das glauben INGO AND PETE!
URL:https://halbneuntheater.de/veranstaltung/ingo-und-pete-songs-aus-dem-leben/
CATEGORIES:1. Halbjahr 2023
ATTACH;FMTTYPE=image/jpeg:https://halbneuntheater.de/halbNeunV2/wp-content/uploads/2022/11/Ingo_und_Pete.jpg
END:VEVENT
BEGIN:VEVENT
DTSTART;TZID=UTC:20230121T203000
DTEND;TZID=UTC:20230121T203000
DTSTAMP:20260419T132737
CREATED:20221121T114230Z
LAST-MODIFIED:20221122T081025Z
UID:5205-1674333000-1674333000@halbneuntheater.de
SUMMARY:Kabbaratz: "Anna log – die wahre Geschichte"
DESCRIPTION:Darf man Mitmenschen mit ihrem Selfiestick verprügeln oder sollte man Mitleid mit ihnen haben. Während PETER HOFFMANN überall Egoisten\nentdeckt\, fällt EVELYN WENDLER an ihm auf: ein Geisterfahrer sieht Hunderte. \nAuch in der Coronakrise hat sich gezeigt: Es gibt Leute\, die ein Auto aufbrechen\, weil auf dem Rücksitz Klopapierrollen lagern. Und es gibt Leute\, die für andere Einkaufen gehen. In seinem 31. Programm geht es KABBARATZ um Gesellschaft und Gemeinschaft. Also konkret das große Wir und das kleine ich. Doch\, das meinen die ernst. Komisch wird es genau deshalb.
URL:https://halbneuntheater.de/veranstaltung/kabbaratz-anna-log-die-wahre-geschichte-4/
CATEGORIES:1. Halbjahr 2023
ATTACH;FMTTYPE=image/jpeg:https://halbneuntheater.de/halbNeunV2/wp-content/uploads/2022/11/Kabbratz_Januar.jpg
END:VEVENT
BEGIN:VEVENT
DTSTART;TZID=UTC:20230122T150000
DTEND;TZID=UTC:20230122T160000
DTSTAMP:20260419T132737
CREATED:20221121T115014Z
LAST-MODIFIED:20221121T115014Z
UID:5208-1674399600-1674403200@halbneuntheater.de
SUMMARY:Kindertheater Fridolin Farbenfroh: "Zebra und Papagei"
DESCRIPTION:Für Kinder ab 4 Jahren. \nWenn DIRK PURSCHE als etwas durchgeknallter Maler FRIDOLIN FARBENFROH vor sein Publikum tritt\, fliegen ihm nicht nur die Kinderherzen zu\, auch die Erwachsenen lieben seine Bühnenfigur sofort.\nFARBENFROH singt einen Ohrwurm nach dem anderen\, Kinderlieder voller Fantasie\, musikalisch einfallsreich und anspruchsvoll. Noch vor der Veröffentlichung seiner ersten CD erkannte das auch das WDRKinderradio „KIRAKA“ und spielt nun regelmäßig seine Lieder.\nZwischen den Songs kräht sich immer wieder sein Papagei ins Rampenlicht\, und trägt seine sehr lustigen Gedichte vor. Und dann ist da auch noch dieses Zebra…
URL:https://halbneuntheater.de/veranstaltung/kindertheater-fridolin-farbenfroh-zebra-und-papagei/
CATEGORIES:1. Halbjahr 2023
ATTACH;FMTTYPE=image/jpeg:https://halbneuntheater.de/halbNeunV2/wp-content/uploads/2022/11/Fridolin_Farbenfroh.jpg
END:VEVENT
BEGIN:VEVENT
DTSTART;TZID=UTC:20230122T193000
DTEND;TZID=UTC:20230122T193000
DTSTAMP:20260419T132737
CREATED:20221121T115550Z
LAST-MODIFIED:20221122T081041Z
UID:5211-1674415800-1674415800@halbneuntheater.de
SUMMARY:Schwarze Grütze: " Vom Neandertal ins Digital"
DESCRIPTION:Die neuen Lieder der „Schwarzen Grütze“ sind bitterwitzige Gesellschafts- Selfies. Da ändert die intelligente Autokorrektur das Wort „Bürste“ in „Brüste“\, nur weil da ein Mann vor dem Bildschirm sitzt. Da entdeckt ein Ehemann\, dass Hacker das Gehirn seiner Frau manipulieren. Einer muss wegen der Mieterhöhung nachts mit dem Metalldetektor auf den Friedhof. Ein Kindergartenkind hilft etwas nach\, damit die Zahnfee endlich den Restbetrag für das I-Phone bringt. \nSCHWARZE GRÜTZE legt den Finger in die offene Festplatte der Gesellschaft. Da trifft künstliche auf künstlerische Intelligenz und Download auf Herzblut. Die beiden bösen Barden bleiben ihrem Ruf treu: Pechschwarzer Humor paart sich mit genialen Wortspielen – ein ausgesprochen analoges Vergnügen
URL:https://halbneuntheater.de/veranstaltung/schwarze-gruetze-vom-neandertal-ins-digital/
CATEGORIES:1. Halbjahr 2023
ATTACH;FMTTYPE=image/jpeg:https://halbneuntheater.de/halbNeunV2/wp-content/uploads/2022/11/Schwarze_Gruetze.jpg
END:VEVENT
BEGIN:VEVENT
DTSTART;TZID=UTC:20230127T203000
DTEND;TZID=UTC:20230127T203000
DTSTAMP:20260419T132737
CREATED:20221121T120950Z
LAST-MODIFIED:20221122T081119Z
UID:5214-1674851400-1674851400@halbneuntheater.de
SUMMARY:Duo Agua Y Vino: "Flamenco Libre"
DESCRIPTION:Flamenco – das ist Befreiung\, Sehnsucht\, Verzweiflung und Erwartung\, Liebe und Haß; ist ausgelassene Lebensfreude\, ist ein Gefühl\, eine Leidenschaft\, eine Freiheit …  \nFlamencotänzerin BARBARA PUPPA interpretiert diese große Skala menschlicher Empfindungen\, Flamencogitarrist ERIK WEISENBERGER spiegelt mit seinem beseelten Spiel\, die Erdigkeit und Leidenschaft des andalusischen Flamencos. \nAGUA Y VINO\, das Flamenco-Ensemble aus Würzburg bietet ein Fest für die Sinne\, das Sehnsüchte und Erinnerungen weckt. Heiter und informativ moderiert\, eröffnet sich dem Publikum die Welt der Legenden und Traditionen aus Spanien und Südamerika.
URL:https://halbneuntheater.de/veranstaltung/duo-agua-y-vino-flamenco-libre/
CATEGORIES:1. Halbjahr 2023
ATTACH;FMTTYPE=image/jpeg:https://halbneuntheater.de/halbNeunV2/wp-content/uploads/2022/11/Duo_Agua_Y_Vino.jpg
END:VEVENT
BEGIN:VEVENT
DTSTART;TZID=UTC:20230128T203000
DTEND;TZID=UTC:20230128T203000
DTSTAMP:20260419T132737
CREATED:20221121T121557Z
LAST-MODIFIED:20221121T124106Z
UID:5217-1674937800-1674937800@halbneuntheater.de
SUMMARY:Jan van Weyde: "Große Klappe\, die Erste"
DESCRIPTION:Jan van Weyde ist Stand-up-Comedian und Synchronsprecher. Eigentlich begann seine Karriere als Schauspieler. Aber eigentlich wollte Jan aber etwas ganz anderes\, nämlich in der Königsdisziplin antreten. Er wollte auf die Stand-up-Bühne. Dann die Initialzündung. Mit der Geburt seiner kleinen Tochter dachte er sich ganz unbescheiden: „Moment mal\, ich bin Gott! Ich habe einen Menschen gemacht! Dann kann ich auch auf eine Bühne gehen und Leute zum Lachen bringen!“ Und das kann Jan – ein Mann\, ein Mikro. Er begeistert das Publikum mit seiner authentisch-unaufgeregten Art und einem großartigen Slapstick-Talent!  \nSein Programm umfasst den ganzen Wahnsinn\, mit dem ein Familienvater zu kämpfen hat und der mit einem Beruf „in den Medien“ seine Familie zu ernähren versucht. Ob als Werbegesicht\, auf der Bühne oder im Tonstudio – oder eben in der Rolle seines Lebens: als Papa. Zwischen Kunst und Kommerz\, Klamauk und Kind – seine große Klappe ist seine größte Waffe. Hätte er diese nur nicht weitervererbt.
URL:https://halbneuntheater.de/veranstaltung/jan-van-weyde-grosse-klappe-die-erste/
CATEGORIES:1. Halbjahr 2023
ATTACH;FMTTYPE=image/jpeg:https://halbneuntheater.de/halbNeunV2/wp-content/uploads/2022/11/Jan_van_Weyde.jpg
END:VEVENT
BEGIN:VEVENT
DTSTART;TZID=UTC:20230129T193000
DTEND;TZID=UTC:20230129T193000
DTSTAMP:20260419T132737
CREATED:20221121T122850Z
LAST-MODIFIED:20221121T124026Z
UID:5220-1675020600-1675020600@halbneuntheater.de
SUMMARY:Johannes Scherer: "Best Of - Das Beste aus 20 Jahren"
DESCRIPTION:Wer hätte vor rund 20 Jahren gedacht\, dass man mit „Scherereien“ und perfektem Hessisch die Kabarett- und Comedybühnen des Landes erobern kann? 1998 ging Johannes Scherer erstmals auf Tournee. Damals an der Seite seines kongenialen Partner und Radiokollegen Robert Treutel („Bodo Bach“). Vier Jahre später folgte Scherers erstes Solo „Scherereien“\, für das er direkt für den renommierten Kabarettpreis „Prix Pantheon“ nominiert wurde. Über die Jahre folgten fünf weitere erfolgreiche Solo-Programme des TV- und Radiomoderators. \nSeit 2019 ist es an der Zeit für eine ausgedehnte „BEST OF“ Tour\, bei der Scherer\, 1973 in Alzenau-Wasserlos geboren und in Schöllkrippen im Kreis Aschaffenburg aufgewachsen\, sein 20jähriges Bühnenjubiläum feiert und seine Fans mitnimmt auf eine Reise durch seine bisherigen Shows. In gewohnter Manier präsentiert er eine abwechslungsreiche Mischung aus Standup\, Kabarett und Parodie. „Es wird Auszüge aus meinen Solo-Programmen Scherereien\, Scherereien 2.0 Reloaded\, Dumm klickt gut\, Asoziale Netzwerke und meinem aktuellen\, Keinangsthasen\, geben“\, sagt Johannes Scherer. „Und natürlich auch einige Überraschungen.“ \nJohannes Scherer parodiert in seinen jüngeren Programmen seltener und holt dafür relevante Themen auf die Bühne. Er rechnet gnadenlos ab mit verunsicherten Verbrauchern\, automatischen Freundefindern\, besorgten Bürgern\, radikalen Thermomixizisten und allen anderen\, die sonst noch ungefragt und überflüssigerweise ihren Kommunikationsmüll überall hinterlassen. \nDas Aschaffenburger „Main-Echo“ schrieb über ihn: „Er schaut dem Volk nicht aufs Maul. Er ist Volk… Und gerade bei Johannes Scherer fällt mit jedem Programm\, mit jedem Auftritt deutlicher auf\, wie hundsraffiniert er den vermeintlichen Kahlgründer Kalauer zum klugen gesellschaftspolitischen Statement nutzt.“ Außerdem kommen nochmal die Jungs der „DFB-Kantine“ zu Wort\, sein Lieblingsitaliener Luigi und der inzwischen pensionierte Terminator Arnold Schwarzenegger\, dem Johannes Scherer 2007 im Kinofilm der „Simpsons“ seine mehr oder weniger deutsche Stimme leihen durfte. \nDas “BEST OF” Johannes Scherer verspricht über zwei Stunden beste Unterhaltung vom Preisträger des Fränkischen Kabarettpreises 2012. Demnächst auch im Theater in Ihrer Nähe.
URL:https://halbneuntheater.de/veranstaltung/johannes-scherer-best-of-das-beste-aus-20-jahren/
CATEGORIES:1. Halbjahr 2023
ATTACH;FMTTYPE=image/jpeg:https://halbneuntheater.de/halbNeunV2/wp-content/uploads/2022/11/Johannes_Scherer.jpg
END:VEVENT
END:VCALENDAR