BEGIN:VCALENDAR
VERSION:2.0
PRODID:-//halbNeun-Theater - ECPv6.15.11//NONSGML v1.0//EN
CALSCALE:GREGORIAN
METHOD:PUBLISH
X-WR-CALNAME:halbNeun-Theater
X-ORIGINAL-URL:https://halbneuntheater.de
X-WR-CALDESC:Veranstaltungen für halbNeun-Theater
REFRESH-INTERVAL;VALUE=DURATION:PT1H
X-Robots-Tag:noindex
X-PUBLISHED-TTL:PT1H
BEGIN:VTIMEZONE
TZID:UTC
BEGIN:STANDARD
TZOFFSETFROM:+0000
TZOFFSETTO:+0000
TZNAME:UTC
DTSTART:20250101T000000
END:STANDARD
END:VTIMEZONE
BEGIN:VEVENT
DTSTART;TZID=UTC:20260419T150000
DTEND;TZID=UTC:20260419T150000
DTSTAMP:20260421T092736
CREATED:20250901T104055Z
LAST-MODIFIED:20250901T104055Z
UID:7095-1776610800-1776610800@halbneuntheater.de
SUMMARY:Toby Rudolph: "Familien-Zauber-Show"
DESCRIPTION:Für Kinder Ab 6 Jahren. \nToby Rudolph ist kein gewöhnlicher Zauberer. Der charismatische Kölner ist ein echter „Zauber-Nerd“ – ehrgeizig\, talentiert und immer auf der Suche nach dem gewissen Etwas\, das seine Tricks unvergesslich macht. \nZauberei wird oft mit Klischees belegt oder als Relikt der Vergangenheit abgetan. Doch Toby beweist das Gegenteil: In seinem Solo-Programm zeigt der amtierende deutsche Meister der Zauberkunst\, dass Magie nicht nur verblüffend\, sondern auch intelligent\, humorvoll und unglaublich unterhaltsam ist. \nFür Toby ist Zauberei weit mehr als nur Tricks – sie erschafft Momente des ehrlichen Staunens und herzhaften Lachens\, die einem lange in Erinnerung bleiben. In seiner Show verbindet er meisterhafte Magie mit interaktiver Comedy und schafft ein Erlebnis\, das einen auf einzigartige Weise fesselt. \nSeit Oktober 2024 ist Toby amtierender deutscher Meister der Zauberkunst (Kategorie Close-Up) – und das ist erst der Anfang! 2025 tritt er bei den Weltmeisterschaften in Turin an und zeigt mit seinem unermüdlichen Training\, wie sehr ihm seine Kunst am Herzen liegt.
URL:https://halbneuntheater.de/veranstaltung/toby-rudolph-familien-zauber-show/
CATEGORIES:1. Halbjahr 2026
ATTACH;FMTTYPE=image/jpeg:https://halbneuntheater.de/halbNeunV2/wp-content/uploads/2025/09/260419_Toby_Rudolph_Kinder.jpg
END:VEVENT
BEGIN:VEVENT
DTSTART;TZID=UTC:20260419T193000
DTEND;TZID=UTC:20260419T193000
DTSTAMP:20260421T092736
CREATED:20250901T104353Z
LAST-MODIFIED:20250901T104353Z
UID:7096-1776627000-1776627000@halbneuntheater.de
SUMMARY:Toby Rudolph: "Der kann ja zaubern!"
DESCRIPTION:Toby Rudolph ist kein gewöhnlicher Zauberer. Der charismatische Kölner ist ein echter „Zauber-Nerd“ – ehrgeizig\, talentiert und immer auf der Suche nach dem gewissen Etwas\, das seine Tricks unvergesslich macht. \nZauberei wird oft mit Klischees belegt oder als Relikt der Vergangenheit abgetan. Doch Toby beweist das Gegenteil: In seinem Solo-Programm zeigt der amtierende deutsche Meister der Zauberkunst\, dass Magie nicht nur verblüffend\, sondern auch intelligent\, humorvoll und unglaublich unterhaltsam ist. \nFür Toby ist Zauberei weit mehr als nur Tricks – sie erschafft Momente des ehrlichen Staunens und herzhaften Lachens\, die einem lange in Erinnerung bleiben. In seiner Show verbindet er meisterhafte Magie mit interaktiver Comedy und schafft ein Erlebnis\, das einen auf einzigartige Weise fesselt. \nSeit Oktober 2024 ist Toby amtierender deutscher Meister der Zauberkunst (Kategorie Close-Up) – und das ist erst der Anfang! 2025 tritt er bei den Weltmeisterschaften in Turin an und zeigt mit seinem unermüdlichen Training\, wie sehr ihm seine Kunst am Herzen liegt.
URL:https://halbneuntheater.de/veranstaltung/toby-rudolph-der-kann-ja-zaubern/
CATEGORIES:1. Halbjahr 2026
ATTACH;FMTTYPE=image/jpeg:https://halbneuntheater.de/halbNeunV2/wp-content/uploads/2025/09/260419_Toby_Rudolph.jpg
END:VEVENT
END:VCALENDAR